Felt | Verdi |
AlreadyApplied | True |
Aperture | 7.1 |
ApertureValue | 7.1 |
BitsPerSample | 8 |
BlueHue | 0 |
BlueSaturation | 0 |
Brightness | +64 |
CameraProfile | Adobe Standard |
ChromaticAberrationB | 0 |
ChromaticAberrationR | 0 |
Clarity | +39 |
ColorComponents | 3 |
ColorMode | RGB |
ColorNoiseReduction | 25 |
ColorSpace | sRGB |
ColorTemperature | 5050 |
Contrast | +51 |
ConvertToGrayscale | False |
CreateDate (1) | 2011:07:13 14:54:30+02:00 |
CreateDate | 2011:07:13 14:54:30 |
CropAngle | 0 |
CropBottom | 0.941053 |
CropLeft | 0.00237 |
CropRight | 0.953791 |
CropTop | 0.023158 |
DateTimeDigitized | 2011:07:13 14:54:30+02:00 |
DateTimeOriginal (1) | 2011:07:13 14:54:30+02:00 |
DateTimeOriginal | 2011:07:13 14:54:30 |
Defringe | 0 |
ExifImageHeight | 2247 |
ExifImageWidth | 4141 |
Exposure | -0.35 |
ExposureCompensation | 0 |
ExposureProgram | Landscape |
ExposureTime | 1/400 |
FillLight | 37 |
Flash | Off, Did not fire |
FlashFired | False |
FlashFunction | False |
FlashMode | Off |
FlashRedEyeMode | False |
FlashReturn | No return detection |
FNumber | 7.1 |
FocalLength | 11.0 mm |
FocalLength35efl | 11.0 mm |
Format | image/jpeg |
GreenHue | 0 |
GreenSaturation | 0 |
HasCrop | True |
HasSettings | True |
HighlightRecovery | 1 |
HueAdjustmentAqua | 0 |
HueAdjustmentBlue | 0 |
HueAdjustmentGreen | 0 |
HueAdjustmentMagenta | 0 |
HueAdjustmentOrange | 0 |
HueAdjustmentPurple | 0 |
HueAdjustmentRed | 0 |
HueAdjustmentYellow | 0 |
ICCProfileName | sRGB IEC61966-2.1 |
ImageHeight | 2247 |
ImageSize | 4141x2247 |
ImageWidth | 4141 |
ISO | 100 |
Keywords | In Focus, High Quality, Fjærlandsfjorden |
LightValue | 14.3 |
LuminanceAdjustmentAqua | 0 |
LuminanceAdjustmentBlue | 0 |
LuminanceAdjustmentGreen | 0 |
LuminanceAdjustmentMagenta | 0 |
LuminanceAdjustmentOrange | 0 |
LuminanceAdjustmentPurple | 0 |
LuminanceAdjustmentRed | 0 |
LuminanceAdjustmentYellow | 0 |
LuminanceSmoothing | 15 |
Make | Panasonic |
MaxApertureValue | 4.0 |
Megapixels | 9.3 |
MeteringMode | Multi-segment |
Model | DMC-GH1 |
ModifyDate (1) | 2011:11:05 19:40:22+01:00 |
ModifyDate | 2011:11:05 19:40:22 |
Orientation | Horizontal (normal) |
ParametricDarks | 0 |
ParametricHighlights | 0 |
ParametricHighlightSplit | 75 |
ParametricLights | 0 |
ParametricMidtoneSplit | 50 |
ParametricShadows | 0 |
ParametricShadowSplit | 25 |
PostCropVignetteAmount | 0 |
ProfileDescription | sRGB IEC61966-2.1 |
Rating | 0 |
RawFileName | P1150622.RW2 |
RedHue | 0 |
RedSaturation | 0 |
Saturation | 0 |
SaturationAdjustmentAqua | 0 |
SaturationAdjustmentBlue | 0 |
SaturationAdjustmentGreen | 0 |
SaturationAdjustmentMagenta | 0 |
SaturationAdjustmentOrange | 0 |
SaturationAdjustmentPurple | 0 |
SaturationAdjustmentRed | 0 |
SaturationAdjustmentYellow | 0 |
Shadows | 33 |
ShadowTint | 0 |
SharpenDetail | 25 |
SharpenEdgeMasking | 0 |
SharpenRadius | +1.5 |
Sharpness | 51 |
ShutterSpeed | 1/400 |
ShutterSpeedValue | 1/400 |
SidecarForExtension | RW2 |
Software | Adobe Photoshop Elements 8.0 Windows |
SplitToningBalance | 0 |
SplitToningHighlightHue | 0 |
SplitToningHighlightSaturation | 0 |
SplitToningShadowHue | 0 |
SplitToningShadowSaturation | 0 |
Subject | In Focus, High Quality, Fjærlandsfjorden |
Tint | +11 |
ToneCurve | 0, 0, 32, 22, 64, 56, 128, 128, 192, 196, 255, 255 |
ToneCurveName | Medium Contrast |
URL_List | |
Version | 5.5 |
Vibrance | +17 |
VignetteAmount | 0 |
WhiteBalance | As Shot |