Felt | Verdi |
AlreadyApplied | True |
Aperture | 6.7 |
ApertureValue | 6.7 |
ApproximateFocusDistance | 0.24 |
Artist | Maria_Egeland |
BitsPerSample (1) | 8 8 8 |
BitsPerSample | 8 |
BlueHue | 0 |
BlueSaturation | 0 |
Brightness | +50 |
By-line | Maria_Egeland |
CameraProfile | Adobe Standard |
ChromaticAberrationB | 0 |
ChromaticAberrationR | 0 |
CircleOfConfusion | 0.019 mm |
Clarity | +5 |
ColorComponents | 3 |
ColorMode | RGB |
ColorNoiseReduction | 30 |
ColorNoiseReductionDetail | 50 |
ColorSpace | sRGB |
ColorTemperature | 5250 |
Contrast | +33 |
ConvertToGrayscale | False |
Copyright | Maria-Egeland./Mandal |
CopyrightNotice | Maria-Egeland./Mandal |
CreateDate (1) | 2011:11:27 13:09:46.00+01:00 |
CreateDate | 2011:11:27 13:09:46 |
Creator | Maria_Egeland |
CreatorTool | Adobe Photoshop CS5.1 Windows |
CustomRendered | Normal |
DateCreated (1) | 2011:11:27 |
DateCreated | 2011:11:27 13:09:46 |
DateTimeOriginal | 2011:11:27 13:09:46 |
Defringe | 0 |
DOF | 0.003 m (0.238 - 0.242 m) |
ExifImageHeight | 1037 |
ExifImageWidth | 956 |
Exposure | +0.50 |
ExposureCompensation | 0 |
ExposureMode | Manual |
ExposureProgram | Manual |
ExposureTime | 1/60 |
FillLight | 50 |
Firmware | 1.2.3 |
Flash | On, Fired |
FlashCompensation | -0.5 |
FNumber | 6.7 |
FocalLength | 60.0 mm |
FocalLength35efl | 60.0 mm (35 mm equivalent: 94.2 mm) |
Format | image/jpeg |
FOV | 21.6 deg |
GrainAmount | 0 |
GreenHue | 0 |
GreenSaturation | 0 |
HasCrop | False |
HasSettings | True |
HighlightRecovery | 0 |
HueAdjustmentAqua | 0 |
HueAdjustmentBlue | 0 |
HueAdjustmentGreen | 0 |
HueAdjustmentMagenta | 0 |
HueAdjustmentOrange | 0 |
HueAdjustmentPurple | 0 |
HueAdjustmentRed | 0 |
HueAdjustmentYellow | 0 |
HyperfocalDistance | 28.08 m |
ICCProfileName | sRGB IEC61966-2.1 |
ImageHeight (1) | 3456 |
ImageHeight | 1037 |
ImageNumber | 0 |
ImageSize | 956x1037 |
ImageWidth (1) | 3188 |
ImageWidth | 956 |
ISO | 160 |
Lens | EF-S60mm f/2.8 Macro USM |
LensID (1) | 236 |
LensID | Canon EF-S 60mm f/2.8 Macro USM |
LensInfo | 60mm f/? |
LensManualDistortionAmount | 0 |
LensModel | EF-S60mm f/2.8 Macro USM |
LensProfileEnable | 0 |
LensProfileSetup | LensDefaults |
LightValue | 10.7 |
LuminanceAdjustmentAqua | +17 |
LuminanceAdjustmentBlue | +12 |
LuminanceAdjustmentGreen | +19 |
LuminanceAdjustmentMagenta | +14 |
LuminanceAdjustmentOrange | +3 |
LuminanceAdjustmentPurple | +16 |
LuminanceAdjustmentRed | -23 |
LuminanceAdjustmentYellow | +13 |
LuminanceNoiseReductionContrast | 7 |
LuminanceNoiseReductionDetail | 54 |
LuminanceSmoothing | 10 |
Make | Canon |
MaxApertureValue | 2.8 |
Megapixels | 0.991 |
MeteringMode | Spot |
Model | Canon EOS 7D |
ModifyDate (1) | 2011:11:30 09:48:45+01:00 |
ModifyDate | 2011:11:30 09:48:45 |
Orientation | Horizontal (normal) |
ParametricDarks | +15 |
ParametricHighlights | +29 |
ParametricHighlightSplit | 75 |
ParametricLights | +32 |
ParametricMidtoneSplit | 50 |
ParametricShadows | +19 |
ParametricShadowSplit | 25 |
PerspectiveHorizontal | 0 |
PerspectiveRotate | 0.0 |
PerspectiveScale | 100 |
PerspectiveVertical | 0 |
PhotometricInterpretation | RGB |
PostCropVignetteAmount | 0 |
ProcessVersion | 5.7 |
ProfileDescription | sRGB IEC61966-2.1 |
Rating | 0 |
RawFileName | Gotas. 27112011 052.CR2 |
RedHue | 0 |
RedSaturation | 0 |
Rights | Maria-Egeland./Mandal |
Saturation | 0 |
SaturationAdjustmentAqua | 0 |
SaturationAdjustmentBlue | 0 |
SaturationAdjustmentGreen | 0 |
SaturationAdjustmentMagenta | 0 |
SaturationAdjustmentOrange | 0 |
SaturationAdjustmentPurple | 0 |
SaturationAdjustmentRed | 0 |
SaturationAdjustmentYellow | 0 |
ScaleFactor35efl | 1.6 |
SceneCaptureType | Standard |
SensitivityType | Unknown |
SerialNumber | 280111559 |
Shadows | 0 |
ShadowTint | 0 |
SharpenDetail | 31 |
SharpenEdgeMasking | 6 |
SharpenRadius | +1.0 |
Sharpness | 34 |
ShutterSpeed | 1/60 |
ShutterSpeedValue | 1/60 |
SidecarForExtension | CR2 |
Software | Adobe Photoshop CS5.1 Windows |
SplitToningBalance | -13 |
SplitToningHighlightHue | 38 |
SplitToningHighlightSaturation | 6 |
SplitToningShadowHue | 36 |
SplitToningShadowSaturation | 0 |
SubjectDistance | 0.24 m |
Tint | +8 |
ToneCurve | 0, 0, 32, 22, 64, 56, 128, 128, 192, 196, 255, 255 |
ToneCurveName | Medium Contrast |
URL_List | |
Version | 6.3 |
Vibrance | 0 |
VignetteAmount | 0 |
WhiteBalance (1) | As Shot |
WhiteBalance | Manual |