Felt | Verdi |
AlreadyApplied | True |
Aperture | 4.0 |
ApertureValue | 4.0 |
ApproximateFocusDistance | 4.47 |
Artist | Monica Helen Angelique Snopestad |
AuthorsPosition | Photographer |
BitsPerSample | 8 |
BlueHue | 0 |
BlueSaturation | 0 |
Brightness | +50 |
By-line | Monica Helen Angelique Snopestad |
By-lineTitle | Photographer |
CameraProfile | Adobe Standard |
ChromaticAberrationB | 0 |
ChromaticAberrationR | 0 |
CircleOfConfusion | 0.031 mm |
Clarity | 0 |
ColorComponents | 3 |
ColorMode | RGB |
ColorNoiseReduction | 25 |
ColorNoiseReductionDetail | 50 |
ColorSpace | sRGB |
ColorTemperature | 5564 |
Contrast | +25 |
ConvertToGrayscale | False |
Copyright | © Monica Helen Angelique Snopestad |
CopyrightFlag | True |
CopyrightNotice | © Monica Helen Angelique Snopestad |
CreateDate (1) | 2011:10:23 15:20:24.37 |
CreateDate | 2011:10:23 15:20:24 |
Creator | Monica Helen Angelique Snopestad |
CreatorAddress | Rakkestadveien 949 |
CreatorCity | Eidsberg |
CreatorCountry | Norway |
CreatorPostalCode | 1880 |
CreatorRegion | Østfold |
CreatorTool | Adobe Photoshop Lightroom 3.5 (Macintosh) |
CreatorWorkEmail | monicahelen@me.com |
CreatorWorkTelephone | 0047 95027825 |
CreatorWorkURL | www.monicahelen.com |
Credit | Monica Helen Angelique Snopestad |
CustomRendered | Normal |
DateCreated | 2011:10:23 |
DateTimeDigitized | 2011:10:23 15:20:24+02:00 |
DateTimeOriginal (1) | 2011:10:23 15:20:24+02:00 |
DateTimeOriginal | 2011:10:23 15:20:24 |
Defringe | 0 |
DOF | 1.48 m (3.85 - 5.33 m) |
ExifImageHeight | 667 |
ExifImageWidth | 1000 |
Exposure | 0.00 |
ExposureCompensation | 0 |
ExposureMode | Auto |
ExposureProgram | Shutter speed priority AE |
ExposureTime | 1/30 |
FillLight | 13 |
Firmware | 2.0.8 |
Flash | On, Fired |
FlashCompensation | 1 |
FlashFired | True |
FlashFunction | False |
FlashMode | On |
FlashRedEyeMode | False |
FlashReturn | No return detection |
FNumber | 4.0 |
FocalLength | 58.0 mm |
FocalLength35efl | 58.0 mm (35 mm equivalent: 56.6 mm) |
Format | image/jpeg |
FOV | 35.3 deg |
GrainAmount | 0 |
GreenHue | 0 |
GreenSaturation | 0 |
HasCrop | False |
HasSettings | True |
HighlightRecovery | 0 |
HueAdjustmentAqua | 0 |
HueAdjustmentBlue | 0 |
HueAdjustmentGreen | 0 |
HueAdjustmentMagenta | 0 |
HueAdjustmentOrange | 0 |
HueAdjustmentPurple | 0 |
HueAdjustmentRed | 0 |
HueAdjustmentYellow | 0 |
HyperfocalDistance | 27.32 m |
ICCProfileName | sRGB IEC61966-2.1 |
ImageHeight | 667 |
ImageNumber | 0 |
ImageSize | 1000x667 |
ImageWidth | 1000 |
Instructions | All bruk av dette bildet må være gjort i overenstemmelse med innholdet og konteksten av dets bildetekst. |
ISO | 1600 |
Lens | EF24-105mm f/4L IS USM |
LensID (1) | 237 |
LensID | Canon EF 24-105mm f/4L IS USM |
LensInfo | 24-105mm f/? |
LensManualDistortionAmount | 0 |
LensModel | EF24-105mm f/4L IS USM |
LensProfileEnable | 0 |
LensProfileSetup | LensDefaults |
LightValue | 4.9 |
LuminanceAdjustmentAqua | 0 |
LuminanceAdjustmentBlue | 0 |
LuminanceAdjustmentGreen | 0 |
LuminanceAdjustmentMagenta | 0 |
LuminanceAdjustmentOrange | 0 |
LuminanceAdjustmentPurple | 0 |
LuminanceAdjustmentRed | 0 |
LuminanceAdjustmentYellow | 0 |
LuminanceSmoothing | 0 |
Make | Canon |
Marked | True |
MaxApertureValue | 4.0 |
Megapixels | 0.667 |
MeteringMode | Multi-segment |
Model | Canon EOS 5D Mark II |
ModifyDate (1) | 2011:11:28 15:08:12+01:00 |
ModifyDate | 2011:11:28 15:08:12 |
Orientation | Horizontal (normal) |
ParametricDarks | +16 |
ParametricHighlights | 0 |
ParametricHighlightSplit | 75 |
ParametricLights | +13 |
ParametricMidtoneSplit | 50 |
ParametricShadows | -22 |
ParametricShadowSplit | 25 |
PerspectiveHorizontal | 0 |
PerspectiveRotate | 0.0 |
PerspectiveScale | 100 |
PerspectiveVertical | 0 |
PostCropVignetteAmount | 0 |
ProcessVersion | 5.7 |
ProfileDescription | sRGB IEC61966-2.1 |
RedHue | 0 |
RedSaturation | 0 |
Rights | © Monica Helen Angelique Snopestad |
Saturation | 0 |
SaturationAdjustmentAqua | 0 |
SaturationAdjustmentBlue | 0 |
SaturationAdjustmentGreen | 0 |
SaturationAdjustmentMagenta | 0 |
SaturationAdjustmentOrange | 0 |
SaturationAdjustmentPurple | 0 |
SaturationAdjustmentRed | 0 |
SaturationAdjustmentYellow | 0 |
ScaleFactor35efl | 1.0 |
SceneCaptureType | Standard |
SerialNumber | 2531518125 |
Shadows | 5 |
ShadowTint | 0 |
SharpenDetail | 25 |
SharpenEdgeMasking | 0 |
SharpenRadius | +1.0 |
Sharpness | 25 |
ShutterSpeed | 1/30 |
ShutterSpeedValue | 1/30 |
Software | Adobe Photoshop CS4 Macintosh |
Source | Monica Helen Angelique Snopestad |
SpecialInstructions | All bruk av dette bildet må være gjort i overenstemmelse med innholdet og konteksten av dets bildetekst. |
SplitToningBalance | 0 |
SplitToningHighlightHue | 0 |
SplitToningHighlightSaturation | 0 |
SplitToningShadowHue | 0 |
SplitToningShadowSaturation | 0 |
SubjectDistance | 4.47 m |
Tint | -1 |
ToneCurve | 0, 0, 32, 22, 64, 56, 128, 128, 192, 196, 255, 255 |
ToneCurveName | Medium Contrast |
URL_List | |
UsageTerms | Kun til vurdering. Ingen reproduksjon uten tillatelse. Ikke tillatt bruk uten skriftlig tillatelse. Alle rettigheter er reservert. |
Version | 6.5 |
Vibrance | 0 |
VignetteAmount | 0 |
WhiteBalance (1) | Custom |
WhiteBalance | Manual |