Felt | Verdi |
AlreadyApplied | True |
Aperture | 4.2 |
ApertureValue | 4.2 |
ApproximateFocusDistance | 1.26 |
BitsPerSample | 8 |
BlueHue | 0 |
BlueSaturation | 0 |
Brightness | +81 |
CameraProfile | Adobe Standard |
CFAPattern | [Green,Blue][Red,Green] |
ChromaticAberrationB | 0 |
ChromaticAberrationR | 0 |
CircleOfConfusion | 0.020 mm |
Clarity | +73 |
ColorComponents | 1 |
ColorNoiseReduction | 9 |
ColorNoiseReductionDetail | 50 |
ColorTemperature | 6583 |
Contrast (1) | +66 |
Contrast | Normal |
ConvertToGrayscale | False |
CreateDate (1) | 2011:08:07 19:18:18.50 |
CreateDate | 2011:08:07 19:18:18 |
CreatorTool | Adobe Photoshop Lightroom 3.4.1 |
CustomRendered | Normal |
DateCreated (1) | 2011:08:07 |
DateCreated | 2011:08:07 19:18:18.50 |
DateTimeOriginal | 2011:08:07 19:18:18 |
Defringe | 0 |
DigitalZoomRatio | 1 |
DOF | 0.40 m (1.09 - 1.49 m) |
Exposure | -1.24 |
ExposureCompensation | 0 |
ExposureMode | Auto |
ExposureProgram | Aperture-priority AE |
ExposureTime | 1/20 |
FillLight | 36 |
Flash | No Flash |
FNumber | 4.2 |
FocalLength | 26.0 mm |
FocalLength35efl | 26.0 mm (35 mm equivalent: 39.0 mm) |
FocalLengthIn35mmFormat | 39 mm |
FOV | 49.6 deg |
GainControl | Low gain up |
GrainAmount | 0 |
GreenHue | 0 |
GreenSaturation | 0 |
HasCrop | False |
HasSettings | True |
HighlightRecovery | 7 |
HueAdjustmentAqua | 0 |
HueAdjustmentBlue | 0 |
HueAdjustmentGreen | 0 |
HueAdjustmentMagenta | 0 |
HueAdjustmentOrange | 0 |
HueAdjustmentPurple | 0 |
HueAdjustmentRed | 0 |
HueAdjustmentYellow | 0 |
HyperfocalDistance | 8.04 m |
ImageHeight | 3872 |
ImageNumber | 16070 |
ImageSize | 2592x3872 |
ImageWidth | 2592 |
ISO | 800 |
Lens | 18.0-55.0 mm f/3.5-5.6 |
LensID (1) | 148 |
LensID | AF-S DX Zoom-Nikkor 18-55mm f/3.5-5.6G ED II |
LensInfo | 18-55mm f/3.5-5.6 |
LensManualDistortionAmount | 0 |
LensModel | 18.0-55.0 mm f/3.5-5.6 |
LensProfileEnable | 0 |
LensProfileSetup | LensDefaults |
LightSource | Unknown |
LightValue | 5.5 |
LuminanceAdjustmentAqua | 0 |
LuminanceAdjustmentBlue | +7 |
LuminanceAdjustmentGreen | -4 |
LuminanceAdjustmentMagenta | 0 |
LuminanceAdjustmentOrange | 0 |
LuminanceAdjustmentPurple | 0 |
LuminanceAdjustmentRed | 0 |
LuminanceAdjustmentYellow | 0 |
LuminanceSmoothing | 0 |
Make | NIKON CORPORATION |
MaxApertureValue | 4.0 |
Megapixels | 10.0 |
MeteringMode | Multi-segment |
Model | NIKON D60 |
ModifyDate (1) | 2011:08:07 22:04:44+02:00 |
ModifyDate | 2011:08:07 22:04:44 |
ParametricDarks | -15 |
ParametricHighlights | -10 |
ParametricHighlightSplit | 75 |
ParametricLights | -65 |
ParametricMidtoneSplit | 50 |
ParametricShadows | +19 |
ParametricShadowSplit | 25 |
PerspectiveHorizontal | 0 |
PerspectiveRotate | 0.0 |
PerspectiveScale | 100 |
PerspectiveVertical | 0 |
PostCropVignetteAmount | -31 |
PostCropVignetteFeather | 50 |
PostCropVignetteHighlightContrast | 0 |
PostCropVignetteMidpoint | 41 |
PostCropVignetteRoundness | +75 |
PostCropVignetteStyle | 1 |
ProcessVersion | 5.7 |
ProfileDescription | sRGB IEC61966-2.1 |
RedHue | 0 |
RedSaturation | 0 |
Saturation (1) | -100 |
Saturation | Normal |
SaturationAdjustmentAqua | 0 |
SaturationAdjustmentBlue | 0 |
SaturationAdjustmentGreen | 0 |
SaturationAdjustmentMagenta | 0 |
SaturationAdjustmentOrange | 0 |
SaturationAdjustmentPurple | 0 |
SaturationAdjustmentRed | 0 |
SaturationAdjustmentYellow | 0 |
ScaleFactor35efl | 1.5 |
SceneCaptureType | Standard |
SceneType | Directly photographed |
SensingMethod | One-chip color area |
SerialNumber | 6617082 |
Shadows | 75 |
ShadowTint | 0 |
SharpenDetail | 0 |
SharpenEdgeMasking | 0 |
SharpenRadius | +3.0 |
Sharpness (1) | 66 |
Sharpness | Normal |
ShutterSpeed | 1/20 |
ShutterSpeedValue | 1/20 |
Software | Adobe Photoshop Lightroom 3.4.1 |
SplitToningBalance | 0 |
SplitToningHighlightHue | 0 |
SplitToningHighlightSaturation | 0 |
SplitToningShadowHue | 0 |
SplitToningShadowSaturation | 0 |
SubjectDistance | 1.26 m |
SubjectDistanceRange | Unknown |
Tint | +9 |
ToneCurve | 0, 0, 32, 22, 64, 56, 128, 128, 192, 196, 255, 255 |
ToneCurveName | Medium Contrast |
Version | 6.4.1 |
Vibrance | +54 |
VignetteAmount | 0 |
WhiteBalance (1) | Custom |
WhiteBalance | Auto |