Felt | Verdi |
AlreadyApplied | True |
Aperture | 11.0 |
ApertureValue | 11.0 |
BitsPerSample | 8 |
BlueHue | 0 |
BlueSaturation | 0 |
Brightness | +50 |
CameraProfile | Adobe Standard |
CFAPattern | [Blue,Green][Green,Red] |
ChromaticAberrationB | 0 |
ChromaticAberrationR | 0 |
CircleOfConfusion | 0.020 mm |
Clarity | +40 |
ColorComponents | 1 |
ColorMode | Grayscale |
ColorNoiseReduction | 45 |
ColorNoiseReductionDetail | 50 |
ColorSpace | Uncalibrated |
ColorTemperature | 5100 |
Contrast (1) | 0 |
Contrast | Normal |
ConvertToGrayscale | True |
CreateDate (1) | 2011:04:20 21:30:15.90+02:00 |
CreateDate | 2011:04:20 21:30:14 |
CreatorTool | Ver.1.10 |
CropAngle | 0 |
CropBottom | 0.976827 |
CropLeft | 0.069988 |
CropRight | 0.96204 |
CropTop | 0.023173 |
CustomRendered | Normal |
DateCreated (1) | 2011:04:20 |
DateCreated | 2011:04:20 21:30:15.09 |
DateTimeOriginal | 2011:04:20 21:30:15 |
Defringe | 0 |
DigitalZoomRatio | 1 |
DOF | inf (1.47 m - inf) |
ExifImageHeight | 2683 |
ExifImageWidth | 1907 |
Exposure | +0.15 |
ExposureCompensation | 0 |
ExposureMode | Auto |
ExposureProgram | Program AE |
ExposureTime | 1/500 |
FillLight | 89 |
Flash | No Flash |
FNumber | 11.0 |
FocalLength | 18.0 mm |
FocalLength35efl | 18.0 mm (35 mm equivalent: 27.0 mm) |
FocalLengthIn35mmFormat | 27 mm |
Format | image/jpeg |
FOV | 67.4 deg |
GainControl | None |
GrainAmount | 0 |
GrayMixerAqua | -10 |
GrayMixerBlue | -48 |
GrayMixerGreen | -25 |
GrayMixerMagenta | -29 |
GrayMixerOrange | -58 |
GrayMixerPurple | -48 |
GrayMixerRed | -63 |
GrayMixerYellow | -53 |
GreenHue | 0 |
GreenSaturation | 0 |
HasCrop | True |
HasSettings | True |
HighlightRecovery | 15 |
HyperfocalDistance | 1.47 m |
ICCProfileName | Gray Gamma 2.2 |
ImageHeight | 2683 |
ImageNumber | 22778 |
ImageSize | 1907x2683 |
ImageWidth | 1907 |
ISO | 200 |
Lens | 18.0-55.0 mm f/3.5-5.6 |
LensID (1) | 148 |
LensID | AF-S DX Zoom-Nikkor 18-55mm f/3.5-5.6G ED II |
LensInfo | 18-55mm f/3.5-5.6 |
LightSource | Unknown |
LightValue | 14.9 |
LuminanceNoiseReductionContrast | 43 |
LuminanceNoiseReductionDetail | 50 |
LuminanceSmoothing | 35 |
Make | NIKON CORPORATION |
MaxApertureValue | 3.5 |
Megapixels | 5.1 |
MeteringMode | Spot |
Model | NIKON D40 |
ModifyDate (1) | 2011:11:11 23:52:55+01:00 |
ModifyDate | 2011:11:11 23:52:55 |
Orientation | Horizontal (normal) |
ParametricDarks | 0 |
ParametricHighlights | 0 |
ParametricHighlightSplit | 75 |
ParametricLights | 0 |
ParametricMidtoneSplit | 50 |
ParametricShadows | 0 |
ParametricShadowSplit | 25 |
PostCropVignetteAmount | 0 |
ProcessVersion | 5.7 |
ProfileDescription | Gray Gamma 2.2 |
Rating | 0 |
RawFileName | DSC_2017.NEF |
RedHue | 0 |
RedSaturation | 0 |
Saturation | High |
ScaleFactor35efl | 1.5 |
SceneCaptureType | Standard |
SceneType | Directly photographed |
SensingMethod | One-chip color area |
SerialNumber | 6391325 |
Shadows | 22 |
ShadowTint | 0 |
SharpenDetail | 30 |
SharpenEdgeMasking | 40 |
SharpenRadius | +1.2 |
Sharpness (1) | 90 |
Sharpness | Hard |
ShutterSpeed | 1/500 |
ShutterSpeedValue | 1/500 |
SidecarForExtension | NEF |
Software | Adobe Photoshop CS5 Windows |
SplitToningBalance | 0 |
SplitToningHighlightHue | 0 |
SplitToningHighlightSaturation | 0 |
SplitToningShadowHue | 0 |
SplitToningShadowSaturation | 0 |
SubjectDistance | 4294967295 m |
SubjectDistanceRange | Unknown |
Tint | 0 |
ToneCurve | 0, 0, 32, 16, 64, 50, 128, 128, 192, 202, 255, 255 |
ToneCurveName | Strong Contrast |
URL_List | |
UserComment | BitchMaster69 |
Version | 6.0 |
VignetteAmount | 0 |
WhiteBalance (1) | Custom |
WhiteBalance | Auto |