Felt | Verdi |
AlreadyApplied | True |
Aperture | 8.0 |
ApertureValue | 8.0 |
ApproximateFocusDistance | 3.39 |
BitsPerSample | 8 |
BlueHue | 0 |
BlueSaturation | 0 |
Brightness | -78 |
CameraProfile | Adobe Standard |
ChromaticAberrationB | 0 |
ChromaticAberrationR | 0 |
CircleOfConfusion | 0.031 mm |
Clarity | +13 |
ColorComponents | 3 |
ColorMode | RGB |
ColorNoiseReduction | 25 |
ColorNoiseReductionDetail | 50 |
ColorSpace | Uncalibrated |
ColorTemperature | 5550 |
Contrast | +25 |
ConvertToGrayscale | True |
Copyright | Ole_Remi_Kristiansen2011 |
CopyrightNotice | Ole_Remi_Kristiansen2011 |
CreateDate (1) | 2012:05:15 21:28:23.70 |
CreateDate | 2012:05:15 21:28:23 |
CreatorTool | Adobe Photoshop CS5 Macintosh |
CropAngle | -3.44495 |
CropBottom | 0.922078 |
CropConstrainToWarp | 1 |
CropLeft | 0.098213 |
CropRight | 0.997682 |
CropTop | 0.089921 |
CustomRendered | Normal |
DateCreated (1) | 2012:05:15 |
DateCreated | 2012:05:15 21:28:23.007 |
DateTimeOriginal | 2012:05:15 21:28:23 |
Defringe | 0 |
DOF | 3.31 m (2.41 - 5.72 m) |
ExifImageHeight | 4855 |
ExifImageWidth | 3413 |
Exposure | +1.15 |
ExposureCompensation | 0 |
ExposureMode | Auto |
ExposureProgram | Aperture-priority AE |
ExposureTime | 1/20 |
FillLight | 18 |
Firmware | 2.0.8 |
Flash | Off, Did not fire |
FlashCompensation | 0 |
FNumber | 8.0 |
FocalLength | 45.0 mm |
FocalLength35efl | 45.0 mm (35 mm equivalent: 43.9 mm) |
Format | image/jpeg |
FOV | 44.6 deg |
GradientBasedCorrActive | true |
GradientBasedCorrAmount | 1.000000 |
GradientBasedCorrBrightness | 0.000000 |
GradientBasedCorrClarity | 0.000000 |
GradientBasedCorrContrast | 0.000000 |
GradientBasedCorrExposure (2) | -0.175000 |
GradientBasedCorrExposure (3) | -0.062500 |
GradientBasedCorrExposure (4) | 0.000000 |
GradientBasedCorrExposure | 0.225000 |
GradientBasedCorrHue (4) | 21.000000 |
GradientBasedCorrHue | 233.000000 |
GradientBasedCorrMaskFullX (1) | 1.292023 |
GradientBasedCorrMaskFullX (2) | 1.031339 |
GradientBasedCorrMaskFullX (3) | 0.140648 |
GradientBasedCorrMaskFullX (4) | -0.073524 |
GradientBasedCorrMaskFullX | 0.910252 |
GradientBasedCorrMaskFullY (1) | 0.498387 |
GradientBasedCorrMaskFullY (2) | 0.106085 |
GradientBasedCorrMaskFullY (3) | 0.374064 |
GradientBasedCorrMaskFullY (4) | 1.119076 |
GradientBasedCorrMaskFullY | 0.598319 |
GradientBasedCorrMaskValue | 1.000000 |
GradientBasedCorrMaskWhat | Mask/Gradient |
GradientBasedCorrMaskZeroX (1) | -0.380342 |
GradientBasedCorrMaskZeroX (2) | 0.766382 |
GradientBasedCorrMaskZeroX (3) | 0.552094 |
GradientBasedCorrMaskZeroX (4) | 1.041745 |
GradientBasedCorrMaskZeroX | 0.559820 |
GradientBasedCorrMaskZeroY (1) | 0.634907 |
GradientBasedCorrMaskZeroY (2) | 0.140292 |
GradientBasedCorrMaskZeroY (3) | 0.351015 |
GradientBasedCorrMaskZeroY (4) | 0.965956 |
GradientBasedCorrMaskZeroY | 0.610454 |
GradientBasedCorrSaturation (2) | 0.180000 |
GradientBasedCorrSaturation (8) | 0.090000 |
GradientBasedCorrSaturation (9) | -0.100000 |
GradientBasedCorrSaturation | 0.000000 |
GradientBasedCorrSharpness | 0.000000 |
GradientBasedCorrWhat | Correction |
GrainAmount | 0 |
GrayMixerAqua | -6 |
GrayMixerBlue | -43 |
GrayMixerGreen | -11 |
GrayMixerMagenta | +6 |
GrayMixerOrange | +38 |
GrayMixerPurple | +13 |
GrayMixerRed | +7 |
GrayMixerYellow | +33 |
GreenHue | 0 |
GreenSaturation | 0 |
HasCrop | True |
HasSettings | True |
HighlightRecovery | 0 |
HyperfocalDistance | 8.22 m |
ICCProfileName | ProPhoto RGB |
ImageHeight | 4855 |
ImageNumber | 0 |
ImageSize | 3413x4855 |
ImageWidth | 3413 |
ISO | 800 |
Lens | EF24-105mm f/4L IS USM |
LensID (1) | 237 |
LensID | Canon EF 24-105mm f/4L IS USM |
LensInfo | 24-105mm f/? |
LensManualDistortionAmount | 0 |
LensModel | EF24-105mm f/4L IS USM |
LensProfileEnable | 0 |
LensProfileSetup | LensDefaults |
LightValue | 7.3 |
LuminanceNoiseReductionContrast | 0 |
LuminanceNoiseReductionDetail | 50 |
LuminanceSmoothing | 20 |
Make | Canon |
MaxApertureValue | 4.0 |
Megapixels | 16.6 |
MeteringMode | Center-weighted average |
Model | Canon EOS 5D Mark II |
ModifyDate (1) | 2012:05:16 11:48:05+02:00 |
ModifyDate | 2012:05:16 11:48:05 |
Orientation | Horizontal (normal) |
PaintCorrectionActive | true |
PaintCorrectionAmount | 1.000000 |
PaintCorrectionBrightness | 0.000000 |
PaintCorrectionClarity | 0.000000 |
PaintCorrectionContrast | 0.000000 |
PaintCorrectionExposure (1) | 0.137500 |
PaintCorrectionExposure (2) | -0.087500 |
PaintCorrectionExposure (3) | 0.025000 |
PaintCorrectionExposure (4) | 0.100000 |
PaintCorrectionExposure (5) | -0.075000 |
PaintCorrectionExposure (6) | 0.612500 |
PaintCorrectionExposure | 0.175000 |
PaintCorrectionHue (1) | 233.000000 |
PaintCorrectionHue | 21.000000 |
PaintCorrectionMaskCenterWeight (11) | 0.092037 |
PaintCorrectionMaskCenterWeight | 0.065044 |
PaintCorrectionMaskFlow (17) | 0.957929 |
PaintCorrectionMaskFlow | 0.585366 |
PaintCorrectionMaskRadius (1) | 0.239124 |
PaintCorrectionMaskRadius (10) | 0.084541 |
PaintCorrectionMaskRadius (12) | 0.273534 |
PaintCorrectionMaskRadius (14) | 0.079814 |
PaintCorrectionMaskRadius (15) | 0.050920 |
PaintCorrectionMaskRadius (16) | 0.044160 |
PaintCorrectionMaskRadius (2) | 0.134323 |
PaintCorrectionMaskRadius (3) | 0.060963 |
PaintCorrectionMaskRadius (6) | 0.191372 |
PaintCorrectionMaskRadius (8) | 0.083431 |
PaintCorrectionMaskRadius | 0.184479 |
PaintCorrectionMaskValue (16) | 0.000000 |
PaintCorrectionMaskValue | 0.700000 |
PaintCorrectionMaskWhat | Mask/Paint |
PaintCorrectionSaturation (1) | -0.100000 |
PaintCorrectionSaturation | 0.000000 |
PaintCorrectionSharpness | 0.000000 |
PaintCorrectionWhat | Correction |
ParametricDarks | 0 |
ParametricHighlights | 0 |
ParametricHighlightSplit | 75 |
ParametricLights | 0 |
ParametricMidtoneSplit | 50 |
ParametricShadows | 0 |
ParametricShadowSplit | 25 |
PerspectiveHorizontal | 0 |
PerspectiveRotate | 0.0 |
PerspectiveScale | 100 |
PerspectiveVertical | 0 |
PostCropVignetteAmount | -9 |
PostCropVignetteFeather | 50 |
PostCropVignetteHighlightContrast | 0 |
PostCropVignetteMidpoint | 50 |
PostCropVignetteRoundness | 0 |
PostCropVignetteStyle | 1 |
ProcessVersion | 5.7 |
ProfileDescription | ProPhoto RGB |
Rating | 0 |
RawFileName | _MG_1548.CR2 |
RedHue | 0 |
RedSaturation | 0 |
Rights | Ole_Remi_Kristiansen2011 |
ScaleFactor35efl | 1.0 |
SceneCaptureType | Standard |
SerialNumber | 1531020570 |
Shadows | 5 |
ShadowTint | 0 |
SharpenDetail | 25 |
SharpenEdgeMasking | 30 |
SharpenRadius | +1.0 |
Sharpness | 43 |
ShutterSpeed | 1/20 |
ShutterSpeedValue | 1/20 |
Software | Adobe Photoshop CS5 Macintosh |
SplitToningBalance | 0 |
SplitToningHighlightHue | 0 |
SplitToningHighlightSaturation | 0 |
SplitToningShadowHue | 0 |
SplitToningShadowSaturation | 0 |
SubjectDistance | 3.39 m |
Tint | 0 |
ToneCurve | 0, 0, 32, 22, 64, 56, 128, 128, 192, 196, 255, 255 |
ToneCurveName | Medium Contrast |
URL_List | |
Version | 6.4 |
VignetteAmount | 0 |
WhiteBalance (1) | As Shot |
WhiteBalance | Manual |