Felt | Verdi |
AlreadyApplied | True |
Aperture | 6.3 |
ApertureValue | 6.3 |
ApproximateFocusDistance | 7.94 |
BitsPerSample | 8 |
BlueHue | 0 |
BlueSaturation | 0 |
Brightness | 0 |
CameraProfile | Embedded |
CFAPattern | [Red,Green][Green,Blue] |
ChromaticAberrationB | 0 |
ChromaticAberrationR | 0 |
CircleOfConfusion | 0.020 mm |
Clarity | +18 |
ColorComponents | 3 |
ColorNoiseReduction | 0 |
Contrast (2) | +32 |
Contrast | Normal |
ConvertToGrayscale | False |
CreateDate (1) | 2012:07:11 12:20:18.84+02:00 |
CreateDate | 2012:07:11 12:20:18 |
CreatorTool | Adobe Photoshop Lightroom 3.3 |
CustomRendered | Normal |
DateTimeDigitized | 2012:07:11 12:20:18.84+02:00 |
DateTimeOriginal (1) | 2012:07:11 12:20:18.84+02:00 |
DateTimeOriginal | 2012:07:11 12:20:18 |
Defringe | 0 |
DigitalZoomRatio | 1 |
DOF | inf (1.75 m - inf) |
ExifImageHeight | 2848 |
ExifImageWidth | 4288 |
Exposure | 0.00 |
ExposureCompensation | 0 |
ExposureMode | Auto |
ExposureProgram | Aperture-priority AE |
ExposureTime | 1/400 |
FillLight | 0 |
Flash | No Flash |
FlashFired | False |
FlashFunction | False |
FlashMode | Unknown |
FlashRedEyeMode | False |
FlashReturn | No return detection |
FNumber | 6.3 |
FocalLength | 17.0 mm |
FocalLength35efl | 17.0 mm (35 mm equivalent: 25.0 mm) |
FocalLengthIn35mmFormat | 25 mm |
FOV | 71.5 deg |
GainControl | None |
GrainAmount | 0 |
GreenHue | 0 |
GreenSaturation | 0 |
HasCrop | False |
HasSettings | True |
HighlightRecovery | 0 |
HueAdjustmentAqua | 0 |
HueAdjustmentBlue | 0 |
HueAdjustmentGreen | 0 |
HueAdjustmentMagenta | 0 |
HueAdjustmentOrange | 0 |
HueAdjustmentPurple | 0 |
HueAdjustmentRed | 0 |
HueAdjustmentYellow | 0 |
HyperfocalDistance | 2.25 m |
ImageHeight | 2848 |
ImageNumber | 12316 |
ImageSize | 4288x2848 |
ImageWidth | 4288 |
IncrementalTemperature | 0 |
IncrementalTint | 0 |
ISO | 100 |
Lens | 17.0-50.0 mm f/2.8 |
LensID (1) | 243 |
LensID | Tamron SP AF 17-50mm f/2.8 XR Di II VC LD Aspherical (IF) (B005) |
LensInfo | 17-50mm f/2.8 |
LensManualDistortionAmount | 0 |
LensModel | 17.0-50.0 mm f/2.8 |
LensProfileEnable | 0 |
LensProfileSetup | LensDefaults |
LightSource | Unknown |
LightValue | 14.0 |
LuminanceAdjustmentAqua | 0 |
LuminanceAdjustmentBlue | 0 |
LuminanceAdjustmentGreen | 0 |
LuminanceAdjustmentMagenta | 0 |
LuminanceAdjustmentOrange | 0 |
LuminanceAdjustmentPurple | 0 |
LuminanceAdjustmentRed | 0 |
LuminanceAdjustmentYellow | 0 |
LuminanceSmoothing | 0 |
Make | NIKON CORPORATION |
MaxApertureValue | 2.8 |
Megapixels | 12.2 |
MeteringMode | Multi-segment |
Model | NIKON D300S |
ModifyDate (1) | 2012:07:13 19:41:38+02:00 |
ModifyDate | 2012:07:13 19:41:38 |
ParametricDarks | 0 |
ParametricHighlights | 0 |
ParametricHighlightSplit | 75 |
ParametricLights | 0 |
ParametricMidtoneSplit | 50 |
ParametricShadows | 0 |
ParametricShadowSplit | 25 |
PerspectiveHorizontal | 0 |
PerspectiveRotate | 0.0 |
PerspectiveScale | 100 |
PerspectiveVertical | 0 |
PostCropVignetteAmount | 0 |
ProcessVersion | 5.7 |
ProfileDescription | sRGB IEC61966-2.1 |
RedHue | 0 |
RedSaturation | 0 |
Saturation (2) | +26 |
Saturation | Normal |
SaturationAdjustmentAqua | 0 |
SaturationAdjustmentBlue | 0 |
SaturationAdjustmentGreen | 0 |
SaturationAdjustmentMagenta | 0 |
SaturationAdjustmentOrange | 0 |
SaturationAdjustmentPurple | 0 |
SaturationAdjustmentRed | 0 |
SaturationAdjustmentYellow | 0 |
ScaleFactor35efl | 1.5 |
SceneCaptureType | Standard |
SceneType | Directly photographed |
SensingMethod | One-chip color area |
SensitivityType | Unknown |
SerialNumber | 6035584 |
Shadows | 11 |
ShadowTint | 0 |
SharpenDetail | 25 |
SharpenEdgeMasking | 0 |
SharpenRadius | +1.0 |
Sharpness (2) | 0 |
Sharpness | Normal |
ShutterSpeed | 1/400 |
ShutterSpeedValue | 1/400 |
Software | Ver.1.01 |
SplitToningBalance | 0 |
SplitToningHighlightHue | 0 |
SplitToningHighlightSaturation | 0 |
SplitToningShadowHue | 0 |
SplitToningShadowSaturation | 0 |
SubjectDistance | 7.94 m |
SubjectDistanceRange | Unknown |
ToneCurve | 0, 0, 255, 255 |
ToneCurveName | Linear |
Version | 6.3 |
Vibrance | +31 |
VignetteAmount | 0 |
WhiteBalance (2) | As Shot |
WhiteBalance | Auto |