Felt | Verdi |
AlreadyApplied | True |
Aperture | 9.0 |
ApertureValue | 9.0 |
ApproximateFocusDistance | 4294967295 |
Artist | Gisle Hannemyr |
BitsPerSample | 8 |
BlueHue | 0 |
BlueSaturation | 0 |
Brightness | +50 |
By-line | Gisle Hannemyr |
CameraProfile | Adobe Standard |
Caption-Abstract | A special shaped hill outside Kalunborg in Denmark. |
CFAPattern | [Red,Green][Green,Blue] |
ChromaticAberrationB | 0 |
ChromaticAberrationR | 0 |
CircleOfConfusion | 0.030 mm |
Clarity | +43 |
ColorComponents | 3 |
ColorMode | RGB |
ColorNoiseReduction | 25 |
ColorNoiseReductionDetail | 50 |
ColorSpace | sRGB |
ColorTemperature | 4300 |
Contrast (1) | +43 |
Contrast | Normal |
ConvertToGrayscale | False |
Copyright | Copyright (c) 2012 Gisle Hannemyr. All rights reserved. |
CopyrightFlag | True |
CopyrightNotice | Copyright (c) 2012 Gisle Hannemyr. All rights reserved. |
CreateDate (1) | 2012:08:06 13:25:48.58 |
CreateDate | 2012:08:06 13:25:48 |
Creator | Gisle Hannemyr |
CreatorTool | Adobe Photoshop CS5 Windows |
CustomRendered | Normal |
DateCreated (1) | 2012:08:06 |
DateCreated | 2012:08:06 13:25:48.058 |
DateTimeOriginal | 2012:08:06 13:25:48 |
Defringe | 0 |
Description | A special shaped hill outside Kalunborg in Denmark. |
DigitalZoomRatio | 1 |
DOF | inf (2.13 m - inf) |
ExifImageHeight | 681 |
ExifImageWidth | 1024 |
Exposure | 0.00 |
ExposureCompensation | 0 |
ExposureMode | Auto |
ExposureProgram | Aperture-priority AE |
ExposureTime | 1/640 |
FillLight | 0 |
Flash | No Flash |
FNumber | 9.0 |
FocalLength | 24.0 mm |
FocalLength35efl | 24.0 mm (35 mm equivalent: 24.0 mm) |
FocalLengthIn35mmFormat | 24 mm |
Format | image/jpeg |
FOV | 73.7 deg |
GainControl | None |
GPSAltitude (1) | 4 m |
GPSAltitude | 4 m Above Sea Level |
GPSAltitudeRef | Above Sea Level |
GPSDateStamp | 2012:08:06 |
GPSDateTime | 2012:08:06 12:25:49Z |
GPSImgDirection | 313.98 |
GPSImgDirectionRef | Magnetic North |
GPSLatitude (1) | 55 deg 40' 35.18" |
GPSLatitude | 55 deg 40' 35.18" N |
GPSLatitudeRef | North |
GPSLongitude (1) | 11 deg 10' 14.89" |
GPSLongitude | 11 deg 10' 14.89" E |
GPSLongitudeRef | East |
GPSMapDatum | WGS 84 |
GPSPosition | 55 deg 40' 35.18" N, 11 deg 10' 14.89" E |
GPSSatellites | 07 |
GPSTimeStamp | 12:25:49 |
GPSVersionID | 2.2.0.0 |
GrainAmount | 0 |
GreenHue | 0 |
GreenSaturation | 0 |
HasCrop | False |
HasSettings | True |
HighlightRecovery | 21 |
HueAdjustmentAqua | 0 |
HueAdjustmentBlue | 0 |
HueAdjustmentGreen | 0 |
HueAdjustmentMagenta | 0 |
HueAdjustmentOrange | 0 |
HueAdjustmentPurple | 0 |
HueAdjustmentRed | 0 |
HueAdjustmentYellow | 0 |
HyperfocalDistance | 2.13 m |
ICCProfileName | sRGB IEC61966-2.1 |
ImageDescription | A special shaped hill outside Kalunborg in Denmark. |
ImageHeight | 681 |
ImageNumber | 2583 |
ImageSize | 1024x681 |
ImageWidth | 1024 |
ISO | 200 |
Lens | 24.0-135.0 mm f/3.5-5.6 |
LensID (1) | 69 |
LensID | Tamron SP AF 24-135mm f/3.5-5.6 AD Aspherical (IF) Macro (190D) |
LensInfo | 24-135mm f/3.5-5.6 |
LensManualDistortionAmount | 0 |
LensModel | 24.0-135.0 mm f/3.5-5.6 |
LensProfileEnable | 0 |
LensProfileSetup | LensDefaults |
LightSource | Unknown |
LightValue | 14.7 |
LuminanceAdjustmentAqua | 0 |
LuminanceAdjustmentBlue | 0 |
LuminanceAdjustmentGreen | 0 |
LuminanceAdjustmentMagenta | 0 |
LuminanceAdjustmentOrange | 0 |
LuminanceAdjustmentPurple | 0 |
LuminanceAdjustmentRed | 0 |
LuminanceAdjustmentYellow | 0 |
LuminanceSmoothing | 0 |
Make | NIKON CORPORATION |
Marked | True |
MaxApertureValue | 3.5 |
Megapixels | 0.697 |
MeteringMode | Multi-segment |
Model | NIKON D700 |
ModifyDate (1) | 2012:08:19 16:33:40+02:00 |
ModifyDate | 2012:08:19 16:33:40 |
ObjectName | Danish volcano |
Orientation | Horizontal (normal) |
ParametricDarks | 0 |
ParametricHighlights | 0 |
ParametricHighlightSplit | 75 |
ParametricLights | 0 |
ParametricMidtoneSplit | 50 |
ParametricShadows | 0 |
ParametricShadowSplit | 25 |
PerspectiveHorizontal | 0 |
PerspectiveRotate | 0.0 |
PerspectiveScale | 100 |
PerspectiveVertical | 0 |
PostCropVignetteAmount | 0 |
ProcessVersion | 5.7 |
ProfileDescription | sRGB IEC61966-2.1 |
Rating | 0 |
RawFileName | DSC_2393.NEF |
RedHue | 0 |
RedSaturation | 0 |
Rights | Copyright (c) 2012 Gisle Hannemyr. All rights reserved. |
Saturation (1) | +58 |
Saturation | Normal |
SaturationAdjustmentAqua | 0 |
SaturationAdjustmentBlue | 0 |
SaturationAdjustmentGreen | 0 |
SaturationAdjustmentMagenta | 0 |
SaturationAdjustmentOrange | 0 |
SaturationAdjustmentPurple | 0 |
SaturationAdjustmentRed | 0 |
SaturationAdjustmentYellow | 0 |
ScaleFactor35efl | 1.0 |
SceneCaptureType | Standard |
SceneType | Directly photographed |
SensingMethod | One-chip color area |
SerialNumber | 2336235 |
Shadows | 5 |
ShadowTint | 0 |
SharpenDetail | 25 |
SharpenEdgeMasking | 0 |
SharpenRadius | +1.0 |
Sharpness (1) | 25 |
Sharpness | Normal |
ShutterSpeed | 1/640 |
ShutterSpeedValue | 1/640 |
Software | Adobe Photoshop CS5 Windows |
SplitToningBalance | 0 |
SplitToningHighlightHue | 0 |
SplitToningHighlightSaturation | 0 |
SplitToningShadowHue | 0 |
SplitToningShadowSaturation | 0 |
SubjectDistance | 4294967295 m |
SubjectDistanceRange | Unknown |
Tint | -6 |
Title | Danish volcano |
ToneCurve | 0, 0, 32, 22, 64, 56, 128, 128, 192, 196, 255, 255 |
ToneCurveName | Medium Contrast |
URL_List | |
Version | 6.4.1 |
Vibrance | +3 |
VignetteAmount | 0 |
WhiteBalance (1) | As Shot |
WhiteBalance | Auto |