Felt | Verdi |
AlreadyApplied | True |
Aperture | 2.8 |
ApertureValue | 2.8 |
ApproximateFocusDistance | 4.27 |
BitsPerSample (1) | 16 16 16 |
BitsPerSample | 8 |
BlueHue | 0 |
BlueSaturation | 0 |
Brightness | +53 |
CameraProfile | Adobe Standard |
ChromaticAberrationB | 0 |
ChromaticAberrationR | 0 |
CircleOfConfusion | 0.019 mm |
Clarity | +66 |
ColorComponents | 1 |
ColorMode | RGB |
ColorNoiseReduction | 94 |
ColorNoiseReductionDetail | 37 |
ColorSpace | Uncalibrated |
ColorTemperature | 7200 |
Contrast | +26 |
ConvertToGrayscale | False |
CreateDate (1) | 2012:11:09 22:52:11.28 |
CreateDate | 2012:11:09 22:52:11 |
CreatorTool | Adobe Photoshop Lightroom 3.6 (Windows) |
CustomRendered | Normal |
DateCreated (1) | 2012:11:09 |
DateCreated | 2012:11:09 22:52:11.028 |
DateTimeOriginal | 2012:11:09 22:52:11 |
Defringe | 0 |
DOF | 0.39 m (4.08 - 4.48 m) |
ExifImageHeight | 5613 |
ExifImageWidth | 3885 |
Exposure | +0.14 |
ExposureCompensation | 0 |
ExposureMode | Auto |
ExposureProgram | Aperture-priority AE |
ExposureTime | 1/100 |
FillLight | 6 |
Firmware | 1.0.9 |
Flash | Off, Did not fire |
FlashCompensation | 0 |
FNumber | 2.8 |
FocalLength | 70.0 mm |
FocalLength35efl | 70.0 mm (35 mm equivalent: 110.1 mm) |
Format | image/jpeg |
FOV | 18.6 deg |
GrainAmount | 0 |
GreenHue | 0 |
GreenSaturation | 0 |
HasCrop | False |
HasSettings | True |
HighlightRecovery | 33 |
HueAdjustmentAqua | 0 |
HueAdjustmentBlue | 0 |
HueAdjustmentGreen | 0 |
HueAdjustmentMagenta | 0 |
HueAdjustmentOrange | 0 |
HueAdjustmentPurple | 0 |
HueAdjustmentRed | 0 |
HueAdjustmentYellow | 0 |
HyperfocalDistance | 91.60 m |
ICCProfileName | ProPhoto RGB |
ImageHeight (1) | 5184 |
ImageHeight | 5613 |
ImageNumber | 0 |
ImageSize | 3885x5613 |
ImageWidth (1) | 3456 |
ImageWidth | 3885 |
ISO | 3200 |
Lens | EF70-200mm f/2.8L IS II USM |
LensID (1) | 251 |
LensID | Canon EF 70-200mm f/2.8L IS II USM |
LensInfo | 70-200mm f/? |
LensManualDistortionAmount | 0 |
LensModel | EF70-200mm f/2.8L IS II USM |
LensProfileChromaticAberrationScale | 100 |
LensProfileDistortionScale | 100 |
LensProfileEnable | 1 |
LensProfileFilename | Canon EOS 5D Mark II (Canon EF 70-200mm f2.8L IS II USM) - RAW.lcp |
LensProfileName | Adobe (Canon EF 70-200mm f/2.8 L IS II USM) |
LensProfileSetup | LensDefaults |
LensProfileVignettingScale | 100 |
LightValue | 4.6 |
LuminanceAdjustmentAqua | +27 |
LuminanceAdjustmentBlue | +5 |
LuminanceAdjustmentGreen | -100 |
LuminanceAdjustmentMagenta | +45 |
LuminanceAdjustmentOrange | +23 |
LuminanceAdjustmentPurple | +27 |
LuminanceAdjustmentRed | +32 |
LuminanceAdjustmentYellow | +27 |
LuminanceNoiseReductionContrast | 72 |
LuminanceNoiseReductionDetail | 70 |
LuminanceSmoothing | 76 |
Make | Canon |
MaxApertureValue | 2.8 |
Megapixels | 21.8 |
MeteringMode | Spot |
Model | Canon EOS 550D |
ModifyDate (1) | 2012:11:10 14:00:49+01:00 |
ModifyDate | 2012:11:10 14:00:49 |
Orientation | Horizontal (normal) |
ParametricDarks | +9 |
ParametricHighlights | +25 |
ParametricHighlightSplit | 75 |
ParametricLights | -20 |
ParametricMidtoneSplit | 50 |
ParametricShadows | +1 |
ParametricShadowSplit | 25 |
PerspectiveHorizontal | 0 |
PerspectiveRotate | 0.0 |
PerspectiveScale | 100 |
PerspectiveVertical | 0 |
PhotometricInterpretation | RGB |
PlanarConfiguration | Chunky |
PostCropVignetteAmount | 0 |
ProcessVersion | 5.7 |
ProfileDescription | ProPhoto RGB |
Rating | 4 |
RedHue | 0 |
RedSaturation | 0 |
Saturation | 0 |
SaturationAdjustmentAqua | -16 |
SaturationAdjustmentBlue | -39 |
SaturationAdjustmentGreen | +2 |
SaturationAdjustmentMagenta | -18 |
SaturationAdjustmentOrange | +9 |
SaturationAdjustmentPurple | -52 |
SaturationAdjustmentRed | +14 |
SaturationAdjustmentYellow | +30 |
ScaleFactor35efl | 1.6 |
SceneCaptureType | Standard |
SerialNumber | 1333707297 |
Shadows | 6 |
ShadowTint | 0 |
SharpenDetail | 60 |
SharpenEdgeMasking | 89 |
SharpenRadius | +2.0 |
Sharpness | 97 |
ShutterSpeed | 1/100 |
ShutterSpeedValue | 1/100 |
Software | Adobe Photoshop CS5.1 Windows |
SplitToningBalance | 0 |
SplitToningHighlightHue | 0 |
SplitToningHighlightSaturation | 0 |
SplitToningShadowHue | 0 |
SplitToningShadowSaturation | 0 |
SubjectDistance | 4.27 m |
Tint | -4 |
ToneCurve | 0, 0, 32, 22, 64, 56, 128, 128, 192, 196, 255, 255 |
ToneCurveName | Medium Contrast |
URL_List | |
Version | 6.6 |
Vibrance | 0 |
VignetteAmount | 0 |
WhiteBalance (1) | As Shot |
WhiteBalance | Auto |