Felt | Verdi |
AlreadyApplied | True |
Aperture | 3.2 |
ApertureValue | 3.2 |
Artist | Jone Gundersen |
BitsPerSample | 8 |
BlueHue | 0 |
BlueSaturation | 0 |
Brightness | +68 |
By-line | Jone Gundersen |
CameraProfile | ACR 4.4 |
Caption-Abstract | Flowers, macro photo of orchid |
CaptionWriter | Jone Gundersen |
CFAPattern | [Green,Red][Blue,Green] |
ChromaticAberrationB | 0 |
ChromaticAberrationR | 0 |
CircleOfConfusion | 0.020 mm |
Clarity | +15 |
ColorComponents | 3 |
ColorMode | RGB |
ColorNoiseReduction | 25 |
ColorSpace | Uncalibrated |
ColorTemperature | 5800 |
Contrast (2) | +62 |
Contrast | Normal |
ConvertToGrayscale | False |
Copyright | Jone Gundersen |
CopyrightFlag | True |
CopyrightNotice | Jone Gundersen |
CreateDate (1) | 2008:10:24 14:10:29.08+02:00 |
CreateDate | 2008:10:24 14:10:29 |
Creator | Jone Gundersen |
CreatorAddress | kong haralds gate 31 |
CreatorCity | hafrsfjord |
CreatorCountry | norway |
CreatorPostalCode | 4044 |
CreatorTool | Ver.1.00 |
CreatorWorkTelephone | 47 90206434 |
CustomRendered | Normal |
DateCreated | 2012:11:23 |
DateTimeDigitized | 2008:10:24 14:10:29.08+02:00 |
DateTimeOriginal (1) | 2008:10:24 14:10:29.08+02:00 |
DateTimeOriginal | 2008:10:24 14:10:29 |
Defringe | 0 |
Description | Flowers, macro photo of orchid |
DigitalZoomRatio | 1 |
ExifImageHeight | 803 |
ExifImageWidth | 1200 |
Exposure | -0.15 |
ExposureCompensation | 0 |
ExposureMode | Auto |
ExposureProgram | Program AE |
ExposureTime | 1/60 |
FillLight | 31 |
Flash | Fired, Return not detected |
FlashFired | True |
FlashFunction | False |
FlashMode | Unknown |
FlashRedEyeMode | False |
FlashReturn | Return not detected |
FNumber | 3.2 |
FocalLength | 90.0 mm |
FocalLength35efl | 90.0 mm (35 mm equivalent: 135.0 mm) |
FocalLengthIn35mmFormat | 135 mm |
Format | image/jpeg |
FOV | 15.2 deg |
GainControl | None |
GradientBasedCorrActive | true |
GradientBasedCorrAmount | 1.000000 |
GradientBasedCorrExposure | 0.125000 |
GradientBasedCorrMaskFullX | 0.000000 |
GradientBasedCorrMaskFullY | 0.516814 |
GradientBasedCorrMaskValue | 1.000000 |
GradientBasedCorrMaskWhat | Mask/Gradient |
GradientBasedCorrMaskZeroX | 1.005924 |
GradientBasedCorrMaskZeroY | 0.541593 |
GradientBasedCorrWhat | Correction |
GreenHue | 0 |
GreenSaturation | 0 |
HasCrop | False |
HasSettings | True |
HighlightRecovery | 0 |
HueAdjustmentAqua | 0 |
HueAdjustmentBlue | 0 |
HueAdjustmentGreen | 0 |
HueAdjustmentMagenta | 0 |
HueAdjustmentOrange | 0 |
HueAdjustmentPurple | 0 |
HueAdjustmentRed | 0 |
HueAdjustmentYellow | 0 |
HyperfocalDistance | 126.37 m |
ICCProfileName | Adobe RGB (1998) |
ImageDescription | Flowers, macro photo of orchid |
ImageHeight | 803 |
ImageNumber | 1379 |
ImageSize | 1200x803 |
ImageWidth | 1200 |
ISO | 100 |
Keywords | lansdscape, norway, garden, rogaland, flowers, nature, orchid, fauna, orchid images, blooming, bird orchid, black orchid, blue orchid, buckhet orchid, easter orchid, fly orchid, fringed orchid, greenhood, helmet, jewel, leopard, little |
Lens | 90.0 mm f/2.8 |
LensInfo | 90mm f/2.8 |
LightSource | Unknown |
LightValue | 9.3 |
LuminanceAdjustmentAqua | 0 |
LuminanceAdjustmentBlue | 0 |
LuminanceAdjustmentGreen | 0 |
LuminanceAdjustmentMagenta | 0 |
LuminanceAdjustmentOrange | 0 |
LuminanceAdjustmentPurple | 0 |
LuminanceAdjustmentRed | 0 |
LuminanceAdjustmentYellow | 0 |
LuminanceSmoothing | 0 |
Make | NIKON CORPORATION |
Marked | True |
MaxApertureValue | 3.1 |
Megapixels | 0.964 |
MeteringMode | Center-weighted average |
Model | NIKON D200 |
ModifyDate (1) | 2013:02:02 02:14:47+01:00 |
ModifyDate | 2013:02:02 02:14:47 |
ObjectName | Flower purple orchid |
Orientation | Horizontal (normal) |
ParametricDarks | 0 |
ParametricHighlights | 0 |
ParametricHighlightSplit | 75 |
ParametricLights | 0 |
ParametricMidtoneSplit | 50 |
ParametricShadows | 0 |
ParametricShadowSplit | 25 |
PostCropVignetteAmount | 0 |
ProfileDescription | Adobe RGB (1998) |
Rating | 0 |
RawFileName | DSC_0772.NEF |
RedHue | 0 |
RedSaturation | 0 |
Rights | Jone Gundersen |
Saturation (2) | +20 |
Saturation | Normal |
SaturationAdjustmentAqua | 0 |
SaturationAdjustmentBlue | 0 |
SaturationAdjustmentGreen | 0 |
SaturationAdjustmentMagenta | 0 |
SaturationAdjustmentOrange | 0 |
SaturationAdjustmentPurple | 0 |
SaturationAdjustmentRed | 0 |
SaturationAdjustmentYellow | 0 |
ScaleFactor35efl | 1.5 |
SceneCaptureType | Standard |
SceneType | Directly photographed |
SensingMethod | One-chip color area |
Shadows | 71 |
ShadowTint | 0 |
SharpenDetail | 25 |
SharpenEdgeMasking | 0 |
SharpenRadius | +1.0 |
Sharpness (2) | 25 |
Sharpness | Normal |
ShutterSpeed | 1/60 |
ShutterSpeedValue | 1/60 |
SidecarForExtension | NEF |
Software | Adobe Photoshop CS4 Windows |
SplitToningBalance | 0 |
SplitToningHighlightHue | 0 |
SplitToningHighlightSaturation | 0 |
SplitToningShadowHue | 0 |
SplitToningShadowSaturation | 0 |
Subject | lansdscape, norway, garden, rogaland, flowers, nature, orchid, fauna, orchid images, blooming, bird orchid, black orchid, blue orchid, buckhet orchid, easter orchid, fly orchid, fringed orchid, greenhood, helmet, jewel, leopard, little |
SubjectDistanceRange | Unknown |
Tint | -4 |
Title | Flower purple orchid |
ToneCurve | 0, 0, 32, 22, 64, 56, 128, 128, 192, 196, 255, 255 |
ToneCurveName | Medium Contrast |
URL_List | |
Version | 5.0 |
Vibrance | 0 |
VignetteAmount | 0 |
WhiteBalance (2) | Custom |
WhiteBalance | Auto |
Writer-Editor | Jone Gundersen |