Felt | Verdi |
AlreadyApplied | True |
Aperture | 8.0 |
ApertureValue | 8.0 |
ApproximateFocusDistance | 2.51 |
AutoLateralCA | 0 |
BitsPerSample | 8 |
Blacks2012 | 0 |
BlueHue | 0 |
BlueSaturation | 0 |
Brightness | +50 |
CameraProfile | Adobe Standard |
CFAPattern | [Red,Green][Green,Blue] |
CircleOfConfusion | 0.030 mm |
Clarity | 0 |
Clarity2012 | +13 |
ColorComponents | 3 |
ColorMode | RGB |
ColorNoiseReduction | 25 |
ColorNoiseReductionDetail | 50 |
ColorSpace | Uncalibrated |
ColorTemperature | 5050 |
Contrast (1) | +25 |
Contrast | Normal |
Contrast2012 | 0 |
ConvertToGrayscale | False |
CreateDate (1) | 2013:02:20 13:13:10.20 |
CreateDate | 2013:02:20 13:13:10 |
CreatorTool | Adobe Photoshop Lightroom 4.3 (Windows) |
CropAngle | 0.240737 |
CropBottom | 0.686852 |
CropConstrainToWarp | 0 |
CropLeft | 0.419591 |
CropRight | 0.705854 |
CropTop | 0.257535 |
CustomRendered | Normal |
DateCreated (1) | 2013:02:20 |
DateCreated | 2013:02:20 13:13:10.002 |
DateTimeOriginal | 2013:02:20 13:13:10 |
Defringe | 0 |
DigitalZoomRatio | 1 |
DOF | 0.09 m (2.46 - 2.56 m) |
ExifImageHeight | 900 |
ExifImageWidth | 910 |
Exposure | 0.00 |
Exposure2012 | +1.51 |
ExposureCompensation | 0 |
ExposureMode | Auto |
ExposureProgram | Aperture-priority AE |
ExposureTime | 1/1600 |
FillLight | 0 |
Flash | No Flash |
FNumber | 8.0 |
FocalLength | 175.0 mm |
FocalLength35efl | 175.0 mm (35 mm equivalent: 175.0 mm) |
FocalLengthIn35mmFormat | 175 mm |
Format | image/jpeg |
FOV | 11.7 deg |
GainControl | Low gain up |
GrainAmount | 0 |
GreenHue | 0 |
GreenSaturation | 0 |
HasCrop | True |
HasSettings | True |
HighlightRecovery | 0 |
Highlights2012 | +1 |
HueAdjustmentAqua | 0 |
HueAdjustmentBlue | 0 |
HueAdjustmentGreen | 0 |
HueAdjustmentMagenta | 0 |
HueAdjustmentOrange | 0 |
HueAdjustmentPurple | 0 |
HueAdjustmentRed | 0 |
HueAdjustmentYellow | 0 |
HyperfocalDistance | 127.41 m |
ICCProfileName | Adobe RGB (1998) |
ImageHeight | 900 |
ImageNumber | 16610 |
ImageSize | 910x900 |
ImageWidth | 910 |
ISO | 800 |
Lens | 70.0-200.0 mm f/2.8 |
LensID (1) | 119 |
LensID | AF-S VR Zoom-Nikkor 70-200mm f/2.8G IF-ED |
LensInfo | 70-200mm f/2.8 |
LensManualDistortionAmount | 0 |
LensModel | 70.0-200.0 mm f/2.8 |
LensProfileEnable | 0 |
LensProfileSetup | LensDefaults |
LightSource | Unknown |
LightValue | 13.6 |
LuminanceAdjustmentAqua | 0 |
LuminanceAdjustmentBlue | 0 |
LuminanceAdjustmentGreen | 0 |
LuminanceAdjustmentMagenta | 0 |
LuminanceAdjustmentOrange | 0 |
LuminanceAdjustmentPurple | 0 |
LuminanceAdjustmentRed | 0 |
LuminanceAdjustmentYellow | 0 |
LuminanceSmoothing | 0 |
Make | NIKON CORPORATION |
MaxApertureValue | 2.8 |
Megapixels | 0.819 |
MeteringMode | Spot |
Model | NIKON D4 |
ModifyDate (1) | 2013:02:21 17:52:11+01:00 |
ModifyDate | 2013:02:21 17:52:11 |
Orientation | Horizontal (normal) |
ParametricDarks | +29 |
ParametricHighlights | -43 |
ParametricHighlightSplit | 75 |
ParametricLights | -13 |
ParametricMidtoneSplit | 50 |
ParametricShadows | 0 |
ParametricShadowSplit | 25 |
PerspectiveHorizontal | 0 |
PerspectiveRotate | 0.0 |
PerspectiveScale | 100 |
PerspectiveVertical | 0 |
PostCropVignetteAmount | 0 |
ProcessVersion | 6.7 |
ProfileDescription | Adobe RGB (1998) |
Rating | 0 |
RawFileName | _DSC6616.nef |
RedHue | 0 |
RedSaturation | 0 |
Saturation (1) | 0 |
Saturation | Normal |
SaturationAdjustmentAqua | 0 |
SaturationAdjustmentBlue | 0 |
SaturationAdjustmentGreen | 0 |
SaturationAdjustmentMagenta | 0 |
SaturationAdjustmentOrange | 0 |
SaturationAdjustmentPurple | 0 |
SaturationAdjustmentRed | 0 |
SaturationAdjustmentYellow | 0 |
ScaleFactor35efl | 1.0 |
SceneCaptureType | Standard |
SceneType | Directly photographed |
SensingMethod | One-chip color area |
SensitivityType | Recommended Exposure Index |
SerialNumber | 2031144 |
Shadows | 5 |
Shadows2012 | 0 |
ShadowTint | 0 |
SharpenDetail | 54 |
SharpenEdgeMasking | 51 |
SharpenRadius | +0.6 |
Sharpness (1) | 58 |
Sharpness | Normal |
ShutterSpeed | 1/1600 |
ShutterSpeedValue | 1/1600 |
Software | Adobe Photoshop CS5.1 Windows |
SplitToningBalance | 0 |
SplitToningHighlightHue | 0 |
SplitToningHighlightSaturation | 0 |
SplitToningShadowHue | 0 |
SplitToningShadowSaturation | 0 |
SubjectDistance | 2.51 m |
SubjectDistanceRange | Unknown |
Tint | +2 |
ToneCurve | 0, 0, 32, 22, 64, 56, 128, 128, 192, 196, 255, 255 |
ToneCurveBlue | 0, 0, 255, 255 |
ToneCurveGreen | 0, 0, 255, 255 |
ToneCurveName | Medium Contrast |
ToneCurveName2012 | Linear |
ToneCurvePV2012 | 0, 0, 255, 255 |
ToneCurvePV2012Blue | 0, 0, 255, 255 |
ToneCurvePV2012Green | 0, 0, 255, 255 |
ToneCurvePV2012Red | 0, 0, 255, 255 |
ToneCurveRed | 0, 0, 255, 255 |
URL_List | |
Version | 6.7 |
Vibrance | 0 |
VignetteAmount | 0 |
WhiteBalance (1) | As Shot |
WhiteBalance | Auto |
Whites2012 | 0 |