Felt | Verdi |
AEBBracketValue | 0 |
AlreadyApplied | True |
Aperture | 5.0 |
ApertureValue | 5.0 |
Artist | |
AutoExposureBracketing | Off |
AutoISO | 100 |
AutoLateralCA | 0 |
BitsPerSample | 8 |
Blacks2012 | 0 |
BlueHue | +2 |
BlueSaturation | 0 |
BulbDuration | 0 |
CameraProfile | Camera Landscape |
CameraType | n/a |
CanonExposureMode | Unknown (-1) |
CanonFirmwareVersion | Firmware Version 00.00 |
CanonFlashMode | n/a |
CanonImageSize | n/a |
CanonImageType | |
Clarity2012 | +2 |
ColorComponents | 1 |
ColorNoiseReduction | 25 |
ColorNoiseReductionDetail | 50 |
ColorSpace | sRGB |
ColorTemperature | 5500 |
ContinuousDrive | Unknown (-1) |
Contrast2012 | +60 |
ControlMode | n/a |
ConvertToGrayscale | True |
CreateDate (1) | 2012:04:29 15:11:47 |
CreateDate | 2013:02:23 04:09:29 |
CreatorTool | Adobe Photoshop Lightroom 4.3 (Windows) |
CustomRendered | Normal |
DateCreated | 2012:04:29 15:11:47 |
DateTimeOriginal | 2013:02:23 04:09:29 |
DigitalZoom | None |
DriveMode | Continuous Shooting |
EasyMode | Unknown (-1) |
ExifImageHeight | 700 |
ExifImageWidth | 1050 |
Exposure2012 | 0.00 |
ExposureCompensation | 0 |
ExposureMode | Auto |
ExposureTime | 1/8000 |
FileNumber | 0 |
Firmware | 1.1.1 |
Flash | Off, Did not fire |
FlashBits | (none) |
FlashCompensation | 0 |
FlashExposureComp | 0 |
FlashGuideNumber | 0 |
FNumber | 5.0 |
FocalUnits | 32/mm |
FocusMode | Single |
FocusRange | Not Known |
Format | image/tiff |
GrainAmount | 0 |
GrayMixerAqua | +24 |
GrayMixerBlue | +71 |
GrayMixerGreen | -26 |
GrayMixerMagenta | +4 |
GrayMixerOrange | -18 |
GrayMixerPurple | +15 |
GrayMixerRed | -9 |
GrayMixerYellow | -22 |
GreenHue | 0 |
GreenSaturation | 0 |
HasCrop | False |
HasSettings | True |
Highlights2012 | -83 |
ImageHeight | 700 |
ImageNumber | 15 |
ImageSize | 1050x700 |
ImageWidth | 1050 |
Lens (1) | EF70-200mm f/2.8L USM |
Lens | 0.0 mm |
Lens35efl | 0.0 mm |
LensID (1) | 165 |
LensID | n/a |
LensInfo | 70-200mm f/? |
LensManualDistortionAmount | 0 |
LensProfileEnable | 0 |
LensProfileSetup | LensDefaults |
LensType | n/a |
LuminanceSmoothing | 0 |
MacroMode | Unknown (0) |
Make | Canon |
ManualFlashOutput | n/a |
MaxFocalLength | 0 mm |
MeasuredEV | 5.00 |
Megapixels | 0.735 |
MeteringMode | Unknown (-1) |
MinFocalLength | 0 mm |
Model | |
ModifyDate (1) | 2013:02:22 22:20:47+01:00 |
ModifyDate | 2013:02:23 04:09:29 |
NDFilter | n/a |
OpticalZoomCode | n/a |
Orientation | Horizontal (normal) |
ParametricDarks | -48 |
ParametricHighlights | +55 |
ParametricHighlightSplit | 75 |
ParametricLights | -51 |
ParametricMidtoneSplit | 50 |
ParametricShadows | +30 |
ParametricShadowSplit | 25 |
PerspectiveHorizontal | 0 |
PerspectiveRotate | 0.0 |
PerspectiveScale | 100 |
PerspectiveVertical | 0 |
PostCropVignetteAmount | 0 |
ProcessVersion | 6.7 |
ProfileDescription | sRGB v1.31 (Canon) |
Quality | Fine |
RedHue | 0 |
RedSaturation | 0 |
RelatedImageHeight | 700 |
RelatedImageWidth | 1050 |
SceneCaptureType | Standard |
SelfTimer | Off |
SequenceNumber | 0 |
SerialNumber | 930605153 |
Shadows2012 | 0 |
ShadowTint | 0 |
SharpenDetail | 0 |
SharpenEdgeMasking | 0 |
SharpenRadius | +0.6 |
Sharpness | 32 |
ShootingMode | Unknown (-1) |
ShutterSpeed | 1/8000 |
ShutterSpeedValue | 1/8000 |
SlowShutter | None |
Software | Digital Photo Professional |
SplitToningBalance | 0 |
SplitToningHighlightHue | 0 |
SplitToningHighlightSaturation | 0 |
SplitToningShadowHue | 0 |
SplitToningShadowSaturation | 0 |
TargetAperture | 5 |
TargetExposureTime | 1/8016 |
Tint | +10 |
ToneCurveName2012 | Linear |
ToneCurvePV2012 | 0, 0, 255, 255 |
ToneCurvePV2012Blue | 0, 0, 255, 255 |
ToneCurvePV2012Green | 0, 0, 255, 255 |
ToneCurvePV2012Red | 0, 0, 255, 255 |
UserComment | |
Version | 7.3 |
VignetteAmount | 0 |
WhiteBalance (1) | Auto |
WhiteBalance (2) | Daylight |
WhiteBalance | Unknown (-1) |
Whites2012 | -17 |
ZoomSourceWidth | 0 |
ZoomTargetWidth | 0 |