Felt | Verdi |
AlreadyApplied | True |
Aperture | 22.0 |
ApertureValue | 22.0 |
ApproximateFocusDistance | 25.3 |
AutoLateralCA | 1 |
BitsPerSample | 8 |
Blacks2012 | -51 |
BlueHue | 0 |
BlueSaturation | 0 |
CameraProfile | Adobe Standard |
CircleOfConfusion | 0.028 mm |
Clarity2012 | +28 |
ColorComponents | 3 |
ColorMode | RGB |
ColorNoiseReduction | 25 |
ColorNoiseReductionDetail | 50 |
ColorSpace | Uncalibrated |
ColorTemperature | 9500 |
Contrast2012 | +25 |
ConvertToGrayscale | False |
CreateDate | 2013:01:20 15:20:31 |
CropAngle | 0 |
CropBottom | 0.895099 |
CropConstrainToWarp | 1 |
CropLeft | 0.001719 |
CropRight | 0.998281 |
CropTop | 0.05331 |
CustomRendered | Normal |
DateCreated (1) | 2013:01:20 |
DateCreated | 2013:01:20 15:20:31 |
DateTimeOriginal | 2013:01:20 15:20:31 |
DefringeGreenAmount | 0 |
DefringeGreenHueHi | 60 |
DefringeGreenHueLo | 40 |
DefringePurpleAmount | 0 |
DefringePurpleHueHi | 70 |
DefringePurpleHueLo | 30 |
DOF | inf (7.55 m - inf) |
ExifImageHeight | 3143 |
ExifImageWidth | 5583 |
Exposure2012 | +0.15 |
ExposureCompensation | 0 |
ExposureMode | Manual |
ExposureProgram | Manual |
ExposureTime | 15 |
Firmware | 1.1.3 |
Flash | Off, Did not fire |
FlashCompensation | 0 |
FNumber | 22.0 |
FocalLength | 81.0 mm |
FocalLength35efl | 81.0 mm (35 mm equivalent: 87.5 mm) |
Format | image/jpeg |
FOV | 23.2 deg |
GradientBasedCorrActive | true |
GradientBasedCorrAmount | 1.000000 |
GradientBasedCorrBrightness | 0.000000 |
GradientBasedCorrClarity | 0.000000 |
GradientBasedCorrClarity2012 | 0.000000 |
GradientBasedCorrContrast | 0.000000 |
GradientBasedCorrContrast2012 | 0.000000 |
GradientBasedCorrDefringe | 0.000000 |
GradientBasedCorrExposure | 0.000000 |
GradientBasedCorrExposure2012 | -0.250000 |
GradientBasedCorrHighlights2012 | 0.000000 |
GradientBasedCorrHue | 0.000000 |
GradientBasedCorrLuminanceNoise | 0.000000 |
GradientBasedCorrMaskFullX | 0.490544 |
GradientBasedCorrMaskFullY | 0.106621 |
GradientBasedCorrMaskValue | 1.000000 |
GradientBasedCorrMaskWhat | Mask/Gradient |
GradientBasedCorrMaskZeroX | 0.488825 |
GradientBasedCorrMaskZeroY | 0.461737 |
GradientBasedCorrMoire | 0.000000 |
GradientBasedCorrSaturation | 0.000000 |
GradientBasedCorrShadows2012 | 0.000000 |
GradientBasedCorrSharpness | 0.000000 |
GradientBasedCorrTemperature | 0.000000 |
GradientBasedCorrTint | 0.000000 |
GradientBasedCorrWhat | Correction |
GrainAmount | 0 |
GreenHue | 0 |
GreenSaturation | 0 |
HasCrop | True |
HasSettings | True |
Highlights2012 | -100 |
HueAdjustmentAqua | 0 |
HueAdjustmentBlue | 0 |
HueAdjustmentGreen | 0 |
HueAdjustmentMagenta | 0 |
HueAdjustmentOrange | 0 |
HueAdjustmentPurple | 0 |
HueAdjustmentRed | 0 |
HueAdjustmentYellow | 0 |
HyperfocalDistance | 10.72 m |
ICCProfileName | Adobe RGB (1998) |
ImageHeight | 3143 |
ImageNumber | 0 |
ImageSize | 5583x3143 |
ImageWidth | 5583 |
ISO | 100 |
Lens | EF70-200mm f/4L IS USM |
LensID (1) | 242 |
LensID | Canon EF 70-200mm f/4L IS USM |
LensInfo | 70-200mm f/? |
LensManualDistortionAmount | 0 |
LensModel | EF70-200mm f/4L IS USM |
LensProfileChromaticAberrationScale | 100 |
LensProfileDistortionScale | 100 |
LensProfileEnable | 1 |
LensProfileFilename | Canon EOS 5D Mark II (Canon EF 70-200mm f4L IS USM) - RAW.lcp |
LensProfileName | Adobe (Canon EF 70-200mm f/4 L IS USM) |
LensProfileSetup | LensDefaults |
LensProfileVignettingScale | 100 |
LensSerialNumber | 0000822e2c |
LightValue | 5.0 |
LuminanceAdjustmentAqua | 0 |
LuminanceAdjustmentBlue | 0 |
LuminanceAdjustmentGreen | 0 |
LuminanceAdjustmentMagenta | 0 |
LuminanceAdjustmentOrange | 0 |
LuminanceAdjustmentPurple | 0 |
LuminanceAdjustmentRed | 0 |
LuminanceAdjustmentYellow | 0 |
LuminanceSmoothing | 0 |
Make | Canon |
MaxApertureValue | 4.0 |
Megapixels | 17.5 |
MeteringMode | Multi-segment |
Model | Canon EOS 5D Mark III |
ModifyDate (1) | 2013:04:09 13:23:02+02:00 |
ModifyDate | 2013:04:09 13:23:02 |
Orientation | Horizontal (normal) |
PaintCorrectionActive | true |
PaintCorrectionAmount | 1.000000 |
PaintCorrectionBrightness | 0.000000 |
PaintCorrectionClarity | 0.000000 |
PaintCorrectionClarity2012 | 0.000000 |
PaintCorrectionContrast | 0.000000 |
PaintCorrectionContrast2012 | 0.000000 |
PaintCorrectionDefringe | 0.000000 |
PaintCorrectionExposure | 0.000000 |
PaintCorrectionExposure2012 (2) | 0.125000 |
PaintCorrectionExposure2012 | 0.000000 |
PaintCorrectionHighlights2012 | 0.000000 |
PaintCorrectionHue | 0.000000 |
PaintCorrectionLuminanceNoise (2) | 0.240000 |
PaintCorrectionLuminanceNoise | 0.000000 |
PaintCorrectionMaskCenterWeight | 0.012771 |
PaintCorrectionMaskFlow | 0.981664 |
PaintCorrectionMaskRadius (1) | 0.081102 |
PaintCorrectionMaskRadius (10) | 0.029529 |
PaintCorrectionMaskRadius (11) | 0.029594 |
PaintCorrectionMaskRadius (12) | 0.029642 |
PaintCorrectionMaskRadius (13) | 0.029607 |
PaintCorrectionMaskRadius (14) | 0.029558 |
PaintCorrectionMaskRadius (16) | 0.029462 |
PaintCorrectionMaskRadius (17) | 0.029658 |
PaintCorrectionMaskRadius (18) | 0.029616 |
PaintCorrectionMaskRadius (19) | 0.029546 |
PaintCorrectionMaskRadius (2) | 0.080927 |
PaintCorrectionMaskRadius (21) | 0.029561 |
PaintCorrectionMaskRadius (22) | 0.183945 |
PaintCorrectionMaskRadius (23) | 0.184865 |
PaintCorrectionMaskRadius (24) | 0.185004 |
PaintCorrectionMaskRadius (25) | 0.185085 |
PaintCorrectionMaskRadius (26) | 0.185149 |
PaintCorrectionMaskRadius (27) | 0.184977 |
PaintCorrectionMaskRadius (28) | 0.183973 |
PaintCorrectionMaskRadius (3) | 0.081426 |
PaintCorrectionMaskRadius (4) | 0.081482 |
PaintCorrectionMaskRadius (5) | 0.029553 |
PaintCorrectionMaskRadius (6) | 0.029605 |
PaintCorrectionMaskRadius (7) | 0.029679 |
PaintCorrectionMaskRadius (8) | 0.029677 |
PaintCorrectionMaskRadius (9) | 0.029653 |
PaintCorrectionMaskRadius | 0.184012 |
PaintCorrectionMaskValue | 0.940000 |
PaintCorrectionMaskWhat | Mask/Paint |
PaintCorrectionMoire | 0.000000 |
PaintCorrectionSaturation (5) | 0.250000 |
PaintCorrectionSaturation | 0.000000 |
PaintCorrectionShadows2012 | 0.000000 |
PaintCorrectionSharpness | 0.000000 |
PaintCorrectionTemperature (1) | 0.000000 |
PaintCorrectionTemperature | 0.110000 |
PaintCorrectionTint | 0.000000 |
PaintCorrectionWhat | Correction |
ParametricDarks | 0 |
ParametricHighlights | 0 |
ParametricHighlightSplit | 75 |
ParametricLights | 0 |
ParametricMidtoneSplit | 50 |
ParametricShadows | 0 |
ParametricShadowSplit | 25 |
PerspectiveHorizontal | 0 |
PerspectiveRotate | 0.0 |
PerspectiveScale | 100 |
PerspectiveVertical | 0 |
PostCropVignetteAmount | 0 |
ProcessVersion | 6.7 |
ProfileDescription | Adobe RGB (1998) |
Rating | 0 |
RawFileName | _A8A0458.CR2 |
RecommendedExposureIndex | 100 |
RedHue | 0 |
RedSaturation | 0 |
Saturation | +11 |
SaturationAdjustmentAqua | 0 |
SaturationAdjustmentBlue | 0 |
SaturationAdjustmentGreen | 0 |
SaturationAdjustmentMagenta | 0 |
SaturationAdjustmentOrange | 0 |
SaturationAdjustmentPurple | 0 |
SaturationAdjustmentRed | 0 |
SaturationAdjustmentYellow | 0 |
ScaleFactor35efl | 1.1 |
SceneCaptureType | Standard |
SensitivityType | Recommended Exposure Index |
SerialNumber | 053024007308 |
Shadows2012 | +100 |
ShadowTint | 0 |
SharpenDetail | 25 |
SharpenEdgeMasking | 93 |
SharpenRadius | +1.0 |
Sharpness | 76 |
ShutterSpeed | 15 |
ShutterSpeedValue | 15 |
Software | Adobe Photoshop CS6 (Macintosh) |
SplitToningBalance | 0 |
SplitToningHighlightHue | 0 |
SplitToningHighlightSaturation | 0 |
SplitToningShadowHue | 0 |
SplitToningShadowSaturation | 0 |
Tint | +10 |
ToneCurveName2012 | Linear |
ToneCurvePV2012 | 0, 0, 255, 255 |
ToneCurvePV2012Blue | 0, 0, 255, 255 |
ToneCurvePV2012Green | 0, 0, 255, 255 |
ToneCurvePV2012Red | 0, 0, 255, 255 |
URL_List | |
Version | 7.3 |
Vibrance | +25 |
VignetteAmount | 0 |
WhiteBalance (1) | Custom |
WhiteBalance | Auto |
Whites2012 | +42 |