Felt | Verdi |
AlreadyApplied | True |
Aperture | 4.0 |
ApertureValue | 4.0 |
ApproximateFocusDistance | 0.94 |
AutoLateralCA | 0 |
BitsPerSample | 8 |
Blacks2012 | -39 |
BlueHue | 0 |
BlueSaturation | 0 |
CameraProfile | Embedded |
CircleOfConfusion | 0.006 mm |
Clarity2012 | +16 |
ColorComponents | 3 |
ColorNoiseReduction | 0 |
Contrast2012 | -25 |
ConvertToGrayscale | False |
CreateDate | 2013:04:24 10:47:02 |
CreatorTool | Adobe Photoshop Lightroom 4.1 (Macintosh) |
CropAngle | 1.95023 |
CropBottom | 1 |
CropConstrainToWarp | 0 |
CropHeight | 2021 |
CropLeft | 0.042106 |
CropRight | 0.974246 |
CropTop | 0 |
CropUnit | pixels |
CropWidth | 2696 |
CustomRendered | Normal |
DateCreated (1) | 2013:04:24 |
DateCreated | 2013:04:24 10:47:02 |
DateTimeOriginal | 2013:04:24 10:47:02 |
DefringeGreenAmount | 0 |
DefringeGreenHueHi | 60 |
DefringeGreenHueLo | 40 |
DefringePurpleAmount | 0 |
DefringePurpleHueHi | 70 |
DefringePurpleHueLo | 30 |
DigitalZoomRatio | 1 |
DOF | 2.09 m (0.57 - 2.66 m) |
Exposure2012 | +0.10 |
ExposureCompensation | 0 |
ExposureMode | Auto |
ExposureTime | 1/500 |
Firmware | 1.00 |
Flash | Off, Did not fire |
FlashCompensation | 0 |
FNumber | 4.0 |
FocalLength | 6.1 mm |
FocalLength35efl | 6.1 mm (35 mm equivalent: 28.5 mm) |
Format | image/jpeg |
FOV | 64.6 deg |
GradientBasedCorrActive | true |
GradientBasedCorrAmount | 1.000000 |
GradientBasedCorrBrightness | 0.000000 |
GradientBasedCorrClarity2012 | 0.000000 |
GradientBasedCorrContrast2012 | 0.000000 |
GradientBasedCorrDefringe | 0.000000 |
GradientBasedCorrExposure2012 | 0.000000 |
GradientBasedCorrHighlights2012 | 0.000000 |
GradientBasedCorrHue | 0.000000 |
GradientBasedCorrLuminanceNoise | 0.000000 |
GradientBasedCorrMaskFullX | 0.470566 |
GradientBasedCorrMaskFullY | 0.971341 |
GradientBasedCorrMaskValue | 1.000000 |
GradientBasedCorrMaskWhat | Mask/Gradient |
GradientBasedCorrMaskZeroX | 0.498386 |
GradientBasedCorrMaskZeroY | 0.132826 |
GradientBasedCorrMoire | 0.000000 |
GradientBasedCorrSaturation (1) | 0.045383 |
GradientBasedCorrSaturation | 0.000000 |
GradientBasedCorrShadows2012 | -0.860165 |
GradientBasedCorrSharpness | 0.000000 |
GradientBasedCorrTemperature | 0.000000 |
GradientBasedCorrTint | 0.000000 |
GradientBasedCorrWhat | Correction |
GrainAmount | 0 |
GreenHue | 0 |
GreenSaturation | 0 |
HasCrop | True |
HasSettings | True |
Highlights2012 | 0 |
HueAdjustmentAqua | 0 |
HueAdjustmentBlue | 0 |
HueAdjustmentGreen | 0 |
HueAdjustmentMagenta | 0 |
HueAdjustmentOrange | 0 |
HueAdjustmentPurple | 0 |
HueAdjustmentRed | 0 |
HueAdjustmentYellow | 0 |
HyperfocalDistance | 1.44 m |
ImageHeight | 2021 |
ImageSize | 2696x2021 |
ImageWidth | 2696 |
IncrementalTemperature | 0 |
IncrementalTint | 0 |
ISO | 80 |
Lens | 6.1-30.5 mm |
LensInfo | 6.1-30.5mm f/? |
LensManualDistortionAmount | 0 |
LensModel | 6.1-30.5 mm |
LensProfileEnable | 0 |
LensProfileSetup | LensDefaults |
LightValue | 13.3 |
LuminanceAdjustmentAqua | 0 |
LuminanceAdjustmentBlue | 0 |
LuminanceAdjustmentGreen | 0 |
LuminanceAdjustmentMagenta | 0 |
LuminanceAdjustmentOrange | 0 |
LuminanceAdjustmentPurple | 0 |
LuminanceAdjustmentRed | 0 |
LuminanceAdjustmentYellow | 0 |
LuminanceSmoothing | 0 |
Make | Canon |
MaxApertureValue | 2.8 |
Megapixels | 5.4 |
MeteringMode | Multi-segment |
Model | Canon PowerShot G12 |
ModifyDate (1) | 2013:04:27 22:37:11+02:00 |
ModifyDate | 2013:04:27 22:37:11 |
ParametricDarks | 0 |
ParametricHighlights | 0 |
ParametricHighlightSplit | 75 |
ParametricLights | 0 |
ParametricMidtoneSplit | 50 |
ParametricShadows | 0 |
ParametricShadowSplit | 25 |
PerspectiveHorizontal | 0 |
PerspectiveRotate | 0.0 |
PerspectiveScale | 100 |
PerspectiveVertical | 0 |
PostCropVignetteAmount | 0 |
ProcessVersion | 6.7 |
ProfileDescription | sRGB IEC61966-2.1 |
RedHue | 0 |
RedSaturation | 0 |
Saturation | 0 |
SaturationAdjustmentAqua | 0 |
SaturationAdjustmentBlue | 0 |
SaturationAdjustmentGreen | 0 |
SaturationAdjustmentMagenta | 0 |
SaturationAdjustmentOrange | 0 |
SaturationAdjustmentPurple | 0 |
SaturationAdjustmentRed | 0 |
SaturationAdjustmentYellow | 0 |
ScaleFactor35efl | 4.7 |
SceneCaptureType | Standard |
SensingMethod | One-chip color area |
SensitivityType | Standard Output Sensitivity and Recommended Exposure Index |
Shadows2012 | +33 |
ShadowTint | 0 |
SharpenDetail | 25 |
SharpenEdgeMasking | 0 |
SharpenRadius | +1.0 |
Sharpness | 0 |
ShutterSpeed | 1/500 |
ShutterSpeedValue | 1/500 |
Software | Adobe Photoshop Lightroom 4.1 (Macintosh) |
SplitToningBalance | 0 |
SplitToningHighlightHue | 0 |
SplitToningHighlightSaturation | 0 |
SplitToningShadowHue | 0 |
SplitToningShadowSaturation | 0 |
ToneCurveName2012 | Linear |
ToneCurvePV2012 | 0, 0, 255, 255 |
ToneCurvePV2012Blue | 0, 0, 255, 255 |
ToneCurvePV2012Green | 0, 0, 255, 255 |
ToneCurvePV2012Red | 0, 0, 255, 255 |
Version | 7.1 |
Vibrance | +10 |
VignetteAmount | 0 |
WhiteBalance (1) | As Shot |
WhiteBalance | Auto |
Whites2012 | +57 |