Felt | Verdi |
AlreadyApplied | True |
Aperture | 6.3 |
ApertureValue | 6.3 |
ApproximateFocusDistance | 31.6 |
AutoLateralCA | 0 |
BitsPerSample | 8 |
Blacks2012 | 0 |
BlueHue | 0 |
BlueSaturation | 0 |
CameraProfile | Adobe Standard |
CFAPattern | [Green,Blue][Red,Green] |
CircleOfConfusion | 0.020 mm |
Clarity2012 | 0 |
ColorComponents | 3 |
ColorNoiseReduction | 25 |
ColorNoiseReductionDetail | 50 |
ColorTemperature | 5350 |
Contrast | Normal |
Contrast2012 | -55 |
ConvertToGrayscale | True |
CreateDate (1) | 2013:05:31 21:31:00.00 |
CreateDate | 2013:05:31 21:31:00 |
CreatorTool | Adobe Photoshop Lightroom 4.1 (Windows) |
CropAngle | 0 |
CropBottom | 0.786259 |
CropConstrainToWarp | 0 |
CropHeight | 420 |
CropLeft | 0 |
CropRight | 0.984791 |
CropTop | 0.164122 |
CropUnit | pixels |
CropWidth | 1000 |
CustomRendered | Normal |
DateCreated (1) | 2013:05:31 |
DateCreated | 2013:05:31 21:31:00.00 |
DateTimeOriginal | 2013:05:31 21:31:00 |
DigitalZoomRatio | 1 |
DOF | 4.36 m (29.57 - 33.93 m) |
Exposure2012 | +0.12 |
ExposureCompensation | 0 |
ExposureMode | Manual |
ExposureProgram | Manual |
ExposureTime | 1/1600 |
Flash | No Flash |
FNumber | 6.3 |
FocalLength | 240.0 mm |
FocalLength35efl | 240.0 mm (35 mm equivalent: 360.0 mm) |
FocalLengthIn35mmFormat | 360 mm |
Format | image/jpeg |
FOV | 5.7 deg |
GainControl | Low gain up |
GrainAmount | 0 |
GrayMixerAqua | -20 |
GrayMixerBlue | +9 |
GrayMixerGreen | -27 |
GrayMixerMagenta | +7 |
GrayMixerOrange | -17 |
GrayMixerPurple | +17 |
GrayMixerRed | -6 |
GrayMixerYellow | -22 |
GreenHue | 0 |
GreenSaturation | 0 |
HasCrop | True |
HasSettings | True |
Highlights2012 | 0 |
HyperfocalDistance | 456.44 m |
ImageHeight | 420 |
ImageNumber | 9527 |
ImageSize | 1000x420 |
ImageWidth | 1000 |
ISO | 800 |
Lens | 70.0-300.0 mm f/4.0-5.6 |
LensID (1) | 224 |
LensID | Sigma 70-300mm F4-5.6 APO DG Macro HSM |
LensInfo | 70-300mm f/4-5.6 |
LensManualDistortionAmount | 0 |
LensModel | 70.0-300.0 mm f/4.0-5.6 |
LensProfileEnable | 0 |
LensProfileSetup | LensDefaults |
LightSource | Fine Weather |
LightValue | 13.0 |
LuminanceNoiseReductionContrast | 0 |
LuminanceNoiseReductionDetail | 50 |
LuminanceSmoothing | 100 |
Make | NIKON CORPORATION |
MaxApertureValue | 5.3 |
Megapixels | 0.420 |
MeteringMode | Spot |
Model | NIKON D90 |
ModifyDate (1) | 2013:06:02 09:47:40+02:00 |
ModifyDate | 2013:06:02 09:47:40 |
ParametricDarks | 0 |
ParametricHighlights | 0 |
ParametricHighlightSplit | 75 |
ParametricLights | 0 |
ParametricMidtoneSplit | 50 |
ParametricShadows | 0 |
ParametricShadowSplit | 25 |
PerspectiveHorizontal | 0 |
PerspectiveRotate | 0.0 |
PerspectiveScale | 100 |
PerspectiveVertical | 0 |
PostCropVignetteAmount | 0 |
ProcessVersion | 6.7 |
ProfileDescription | sRGB IEC61966-2.1 |
RedHue | 0 |
RedSaturation | 0 |
Saturation | Normal |
ScaleFactor35efl | 1.5 |
SceneCaptureType | Standard |
SceneType | Directly photographed |
SensingMethod | One-chip color area |
SerialNumber | 6073699 |
Shadows2012 | 0 |
ShadowTint | 0 |
SharpenDetail | 73 |
SharpenEdgeMasking | 0 |
SharpenRadius | +2.8 |
Sharpness (1) | 123 |
Sharpness | Normal |
ShutterSpeed | 1/1600 |
ShutterSpeedValue | 1/1600 |
Software | Adobe Photoshop Lightroom 4.1 (Windows) |
SplitToningBalance | -74 |
SplitToningHighlightHue | 219 |
SplitToningHighlightSaturation | 70 |
SplitToningShadowHue | 210 |
SplitToningShadowSaturation | 0 |
SubjectDistanceRange | Unknown |
Tint | +19 |
ToneCurveName2012 | Custom |
ToneCurvePV2012 | 0, 0, 58, 0, 116, 14, 177, 244, 215, 254, 255, 255 |
ToneCurvePV2012Blue | 0, 0, 255, 255 |
ToneCurvePV2012Green | 0, 0, 255, 255 |
ToneCurvePV2012Red | 0, 0, 255, 255 |
Version | 7.1 |
VignetteAmount | 0 |
WhiteBalance (1) | As Shot |
WhiteBalance | Manual |
Whites2012 | 0 |