Felt | Verdi |
AlreadyApplied | True |
Aperture | 18.0 |
ApertureValue | 18.0 |
ApproximateFocusDistance | 3.72 |
AutoLateralCA | 0 |
BitsPerSample | 8 |
Blacks2012 | -14 |
BlueHue | 0 |
BlueSaturation | 0 |
CameraProfile | Camera Landscape |
CircleOfConfusion | 0.023 mm |
Clarity2012 | +29 |
ColorComponents | 3 |
ColorMode | RGB |
ColorNoiseReduction | 25 |
ColorNoiseReductionDetail | 50 |
ColorSpace | Uncalibrated |
ColorTemperature | 7500 |
Contrast2012 | +14 |
ConvertToGrayscale | False |
CreateDate (1) | 2013:07:27 22:22:18.00 |
CreateDate | 2013:07:27 22:22:18 |
CreatorTool | Adobe Photoshop CS5 Windows |
CropAngle | -0.365841 |
CropBottom | 0.988416 |
CropConstrainToWarp | 0 |
CropHeight | 2556 |
CropLeft | 0.004762 |
CropRight | 0.995238 |
CropTop | 0.011584 |
CropUnit | pixels |
CropWidth | 3835 |
CustomRendered | Normal |
DateCreated (1) | 2013:07:27 |
DateCreated | 2013:07:27 22:22:18 |
DateTimeOriginal | 2013:07:27 22:22:18 |
DefringeGreenAmount | 0 |
DefringeGreenHueHi | 60 |
DefringeGreenHueLo | 40 |
DefringePurpleAmount | 0 |
DefringePurpleHueHi | 70 |
DefringePurpleHueLo | 30 |
DOF | inf (0.88 m - inf) |
ExifImageHeight | 666 |
ExifImageWidth | 1000 |
Exposure2012 | +0.03 |
ExposureCompensation | 0 |
ExposureMode | Manual |
ExposureProgram | Manual |
ExposureTime | 2 |
Firmware | 1.2.3 |
Flash | No Flash |
FlashCompensation | 0 |
FNumber | 18.0 |
FocalLength | 22.0 mm |
FocalLength35efl | 22.0 mm (35 mm equivalent: 28.2 mm) |
Format | image/jpeg |
FOV | 65.1 deg |
GradientBasedCorrActive | true |
GradientBasedCorrAmount | 1.000000 |
GradientBasedCorrBrightness | 0.000000 |
GradientBasedCorrClarity2012 (1) | 0.034480 |
GradientBasedCorrClarity2012 | 0.000000 |
GradientBasedCorrContrast2012 (1) | 0.149430 |
GradientBasedCorrContrast2012 | 0.000000 |
GradientBasedCorrDefringe | 0.000000 |
GradientBasedCorrExposure2012 (1) | 0.011500 |
GradientBasedCorrExposure2012 | -0.034500 |
GradientBasedCorrHighlights2012 (1) | 0.000000 |
GradientBasedCorrHighlights2012 | 0.080460 |
GradientBasedCorrHue | 0.000000 |
GradientBasedCorrLuminanceNoise | 0.000000 |
GradientBasedCorrMaskFullX (1) | 0.473389 |
GradientBasedCorrMaskFullX | 0.482946 |
GradientBasedCorrMaskFullY (1) | -0.029412 |
GradientBasedCorrMaskFullY | 0.905713 |
GradientBasedCorrMaskValue | 1.000000 |
GradientBasedCorrMaskWhat | Mask/Gradient |
GradientBasedCorrMaskZeroX (1) | 0.473389 |
GradientBasedCorrMaskZeroX | 0.480617 |
GradientBasedCorrMaskZeroY (1) | 0.491596 |
GradientBasedCorrMaskZeroY | 0.410340 |
GradientBasedCorrMoire | 0.000000 |
GradientBasedCorrSaturation | 0.000000 |
GradientBasedCorrShadows2012 (1) | 0.172410 |
GradientBasedCorrShadows2012 | 0.000000 |
GradientBasedCorrSharpness | 0.000000 |
GradientBasedCorrTemperature (1) | -0.218390 |
GradientBasedCorrTemperature | 0.517240 |
GradientBasedCorrTint (1) | 0.000000 |
GradientBasedCorrTint | 0.103450 |
GradientBasedCorrWhat | Correction |
GrainAmount | 0 |
GreenHue | 0 |
GreenSaturation | 0 |
HasCrop | True |
HasSettings | True |
Highlights2012 | -100 |
HueAdjustmentAqua | 0 |
HueAdjustmentBlue | -9 |
HueAdjustmentGreen | +11 |
HueAdjustmentMagenta | 0 |
HueAdjustmentOrange | 0 |
HueAdjustmentPurple | 0 |
HueAdjustmentRed | 0 |
HueAdjustmentYellow | 0 |
HyperfocalDistance | 1.15 m |
ICCProfileName | Adobe RGB (1998) |
ImageHeight | 666 |
ImageNumber | 0 |
ImageSize | 1000x666 |
ImageWidth | 1000 |
ISO | 50 |
Lens | EF17-40mm f/4L USM |
LensID (1) | 231 |
LensID | Canon EF 17-40mm f/4L USM |
LensInfo | 17-40mm f/? |
LensManualDistortionAmount | 0 |
LensModel | EF17-40mm f/4L USM |
LensProfileChromaticAberrationScale | 100 |
LensProfileDistortionScale | 100 |
LensProfileEnable | 1 |
LensProfileFilename | Canon EOS-1D Mark III (Canon EF 17-40mm f4 L USM) - RAW.lcp |
LensProfileName | Canon EOS-1D Mark III (Canon EF 17-40mm f/4 L USM) |
LensProfileSetup | Custom |
LensProfileVignettingScale | 81 |
LightValue | 8.3 |
LuminanceAdjustmentAqua | +7 |
LuminanceAdjustmentBlue | +9 |
LuminanceAdjustmentGreen | +71 |
LuminanceAdjustmentMagenta | 0 |
LuminanceAdjustmentOrange | 0 |
LuminanceAdjustmentPurple | 0 |
LuminanceAdjustmentRed | 0 |
LuminanceAdjustmentYellow | 0 |
LuminanceSmoothing | 0 |
Make | Canon |
MaxApertureValue | 4.0 |
Megapixels | 0.666 |
MeteringMode | Multi-segment |
Model | Canon EOS-1D Mark III |
ModifyDate (1) | 2013:07:30 03:09:11+02:00 |
ModifyDate | 2013:07:30 03:09:11 |
Orientation | Horizontal (normal) |
PaintCorrectionActive | true |
PaintCorrectionAmount | 1.000000 |
PaintCorrectionBrightness | 0.000000 |
PaintCorrectionClarity2012 | 0.000000 |
PaintCorrectionContrast2012 (1) | 0.080460 |
PaintCorrectionContrast2012 | 0.000000 |
PaintCorrectionDefringe | 0.000000 |
PaintCorrectionExposure2012 (1) | 0.126500 |
PaintCorrectionExposure2012 | -0.333250 |
PaintCorrectionHighlights2012 | 0.000000 |
PaintCorrectionHue | 0.000000 |
PaintCorrectionLuminanceNoise | 0.000000 |
PaintCorrectionMaskCenterWeight | 0.000000 |
PaintCorrectionMaskFlow (3) | 0.822000 |
PaintCorrectionMaskFlow | 0.555000 |
PaintCorrectionMaskRadius (1) | 0.078152 |
PaintCorrectionMaskRadius (10) | 0.076987 |
PaintCorrectionMaskRadius (11) | 0.077096 |
PaintCorrectionMaskRadius (12) | 0.077093 |
PaintCorrectionMaskRadius (13) | 0.076699 |
PaintCorrectionMaskRadius (14) | 0.077352 |
PaintCorrectionMaskRadius (15) | 0.077729 |
PaintCorrectionMaskRadius (16) | 0.077412 |
PaintCorrectionMaskRadius (17) | 0.077359 |
PaintCorrectionMaskRadius (18) | 0.077035 |
PaintCorrectionMaskRadius (19) | 0.077562 |
PaintCorrectionMaskRadius (2) | 0.078120 |
PaintCorrectionMaskRadius (20) | 0.077514 |
PaintCorrectionMaskRadius (21) | 0.077985 |
PaintCorrectionMaskRadius (22) | 0.077933 |
PaintCorrectionMaskRadius (3) | 0.077925 |
PaintCorrectionMaskRadius (4) | 0.077979 |
PaintCorrectionMaskRadius (5) | 0.078098 |
PaintCorrectionMaskRadius (6) | 0.077766 |
PaintCorrectionMaskRadius (7) | 0.078176 |
PaintCorrectionMaskRadius (8) | 0.078029 |
PaintCorrectionMaskRadius (9) | 0.077578 |
PaintCorrectionMaskRadius | 0.320895 |
PaintCorrectionMaskValue (2) | 0.798000 |
PaintCorrectionMaskValue | 0.270000 |
PaintCorrectionMaskWhat | Mask/Paint |
PaintCorrectionMoire | 0.000000 |
PaintCorrectionSaturation | 0.000000 |
PaintCorrectionShadows2012 | 0.000000 |
PaintCorrectionSharpness | 0.000000 |
PaintCorrectionTemperature | 0.080460 |
PaintCorrectionTint | 0.034480 |
PaintCorrectionWhat | Correction |
ParametricDarks | -5 |
ParametricHighlights | 0 |
ParametricHighlightSplit | 75 |
ParametricLights | +18 |
ParametricMidtoneSplit | 50 |
ParametricShadows | +7 |
ParametricShadowSplit | 25 |
PerspectiveHorizontal | 0 |
PerspectiveRotate | 0.0 |
PerspectiveScale | 100 |
PerspectiveVertical | 0 |
PostCropVignetteAmount | -14 |
PostCropVignetteFeather | 100 |
PostCropVignetteHighlightContrast | 0 |
PostCropVignetteMidpoint | 25 |
PostCropVignetteRoundness | +7 |
PostCropVignetteStyle | 1 |
ProcessVersion | 6.7 |
ProfileDescription | Adobe RGB (1998) |
RedHue | 0 |
RedSaturation | 0 |
Saturation | 0 |
SaturationAdjustmentAqua | 0 |
SaturationAdjustmentBlue | 0 |
SaturationAdjustmentGreen | 0 |
SaturationAdjustmentMagenta | 0 |
SaturationAdjustmentOrange | 0 |
SaturationAdjustmentPurple | 0 |
SaturationAdjustmentRed | 0 |
SaturationAdjustmentYellow | 0 |
ScaleFactor35efl | 1.3 |
SceneCaptureType | Standard |
SerialNumber | 511343 |
Shadows2012 | +100 |
ShadowTint | 0 |
SharpenDetail | 57 |
SharpenEdgeMasking | 90 |
SharpenRadius | +1.7 |
Sharpness | 109 |
ShutterSpeed | 2 |
ShutterSpeedValue | 2 |
Software | Adobe Photoshop CS5 Windows |
SplitToningBalance | 0 |
SplitToningHighlightHue | 0 |
SplitToningHighlightSaturation | 0 |
SplitToningShadowHue | 0 |
SplitToningShadowSaturation | 0 |
Tint | +10 |
ToneCurveName2012 | Linear |
ToneCurvePV2012 | 0, 0, 255, 255 |
ToneCurvePV2012Blue | 0, 0, 255, 255 |
ToneCurvePV2012Green | 0, 0, 255, 255 |
ToneCurvePV2012Red | 0, 0, 255, 255 |
URL_List | |
Version | 7.1 |
Vibrance | +5 |
VignetteAmount | 0 |
WhiteBalance (1) | Shade |
WhiteBalance | Auto |
Whites2012 | 0 |