Felt | Verdi |
AlreadyApplied | True |
Aperture | 20.0 |
ApertureValue | 20.0 |
BitsPerSample | 8 |
BlackClip | 0.000000 |
BlueHue | 0 |
BlueSaturation | 0 |
Brightness | +11 |
CameraProfile | Embedded |
ChromaticAberrationB | 0 |
ChromaticAberrationR | 0 |
Clarity | +78 |
ColorComponents | 3 |
ColorMode | RGB |
ColorNoiseReduction | 0 |
ColorSaturation | 70 |
ColorSpace | Uncalibrated |
ColorTemperature | 3 |
Contrast | +8 |
ConvertToGrayscale | False |
CreateDate | 2010:09:05 10:29:56+02:00 |
CreatorTool | Capture NX 2.2.6 M |
DateCreated (1) | 2010:09:05 |
DateCreated | 2010:09:05 10:29:56 |
DateTimeOriginal | 2010:09:05 10:29:56 |
Defringe | 0 |
ExifImageHeight | 1063 |
ExifImageWidth | 1600 |
Exposure | -0.35 |
FillLight | 4 |
FNumber | 20.0 |
FocalLength | 32.0 mm |
FocalLength35efl | 32.0 mm |
Format | image/tiff |
Gamma | 0.835088 |
GrainAmount | 0 |
GreenHue | 0 |
GreenSaturation | 0 |
HasCrop | False |
HasSettings | True |
HighlightRecovery | 35 |
HighlightsSmoothing | 6 |
HueAdjustmentAqua | 0 |
HueAdjustmentBlue | 0 |
HueAdjustmentGreen | 0 |
HueAdjustmentMagenta | 0 |
HueAdjustmentOrange | 0 |
HueAdjustmentPurple | 0 |
HueAdjustmentRed | 0 |
HueAdjustmentYellow | 0 |
ICCProfileName | Adobe RGB (1998) |
IFD0_Offset | 668 |
ImageDataSize | 1862686 |
ImageHeight | 1063 |
ImageSize | 1600x1063 |
ImageWidth | 1600 |
IncrementalTemperature | +3 |
IncrementalTint | 0 |
LuminanceAdjustmentAqua | 0 |
LuminanceAdjustmentBlue | 0 |
LuminanceAdjustmentGreen | 0 |
LuminanceAdjustmentMagenta | 0 |
LuminanceAdjustmentOrange | 0 |
LuminanceAdjustmentPurple | 0 |
LuminanceAdjustmentRed | 0 |
LuminanceAdjustmentYellow | 0 |
LuminanceSmoothing | 0 |
Luminosity | 6 |
MakerNoteVersion | 2.10 |
Megapixels | 1.7 |
Method | Details Enhancer |
Microcontrast | 10 |
Microsmoothing | 7 |
Model | NIKON D3 |
ModifyDate (1) | 2013:08:02 21:22:57+02:00 |
ModifyDate | 2013:08:02 19:55:1207959552 |
NEFBitDepth | 8 x 3 |
NikonCaptureVersion | Capture NX 2.2.6 M |
Orientation | Horizontal (normal) |
ParametricDarks | 0 |
ParametricHighlights | 0 |
ParametricHighlightSplit | 75 |
ParametricLights | 0 |
ParametricMidtoneSplit | 50 |
ParametricShadows | 0 |
ParametricShadowSplit | 25 |
PostCropVignetteAmount | 0 |
PreviewIFD_Offset | 568 |
ProcessVersion | 5.7 |
ProfileDescription | Adobe RGB (1998) |
Rating | 0 |
RawFileName | foss1.nef |
RedHue | 0 |
RedSaturation | 0 |
Saturation | -8 |
SaturationAdjustmentAqua | 0 |
SaturationAdjustmentBlue | 0 |
SaturationAdjustmentGreen | 0 |
SaturationAdjustmentMagenta | 0 |
SaturationAdjustmentOrange | 0 |
SaturationAdjustmentPurple | 0 |
SaturationAdjustmentRed | 0 |
SaturationAdjustmentYellow | 0 |
SaturationHighlights | 2 |
SaturationShadows | -2 |
Shadows | 5 |
ShadowsClipping | 0 |
ShadowsSmoothing | 17 |
ShadowTint | 0 |
SharpenDetail | 25 |
SharpenEdgeMasking | 0 |
SharpenRadius | +1.0 |
Sharpness | 0 |
SidecarForExtension | NEF |
Smoothing | Very High |
Software | Capture NX 2.2.6 M |
SplitToningBalance | 0 |
SplitToningHighlightHue | 0 |
SplitToningHighlightSaturation | 0 |
SplitToningShadowHue | 0 |
SplitToningShadowSaturation | 0 |
Strength | 79 |
ToneCurve | 0, 0, 255, 255 |
ToneCurveName | Linear |
Version (1) | 3.1 |
Version | 6.0 |
Vibrance | +24 |
VignetteAmount | 0 |
WhiteBalance | Custom |
WhiteClip | 0.110750 |