Felt | Verdi |
AlreadyApplied | True |
Aperture | 1.2 |
ApertureValue | 1.2 |
ApproximateFocusDistance | 0.72 |
AutoLateralCA | 0 |
BitsPerSample (1) | 8 8 8 |
BitsPerSample | 8 |
Blacks2012 | -25 |
BlueHue | +34 |
BlueSaturation | +24 |
CameraProfile | Embedded |
CircleOfConfusion | 0.030 mm |
Clarity2012 | +30 |
ColorComponents | 3 |
ColorMode | RGB |
ColorNoiseReduction | 52 |
ColorNoiseReductionDetail | 77 |
ColorSpace | sRGB |
Contrast2012 | 0 |
ConvertToGrayscale | False |
CreateDate | 2013:09:20 12:02:32 |
CreatorTool | Adobe Photoshop Lightroom 5.0 (Macintosh) |
CustomRendered | Normal |
DateCreated (1) | 2013:09:20 |
DateCreated | 2013:09:20 12:02:32 |
DateTimeOriginal | 2013:09:20 12:02:32 |
DefringeGreenAmount | 0 |
DefringeGreenHueHi | 60 |
DefringeGreenHueLo | 40 |
DefringePurpleAmount | 0 |
DefringePurpleHueHi | 70 |
DefringePurpleHueLo | 30 |
DOF | 0.014 m (0.713 - 0.727 m) |
ExifImageHeight | 2913 |
ExifImageWidth | 4370 |
Exposure2012 | +0.33 |
ExposureCompensation | 0 |
ExposureMode | Manual |
ExposureProgram | Manual |
ExposureTime | 1/100 |
Firmware | 1.1.3 |
Flash | Off, Did not fire |
FlashCompensation | 0 |
FNumber | 1.2 |
FocalLength | 50.0 mm |
FocalLength35efl | 50.0 mm (35 mm equivalent: 49.4 mm) |
Format | image/jpeg |
FOV | 40.1 deg |
GrainAmount | 0 |
GreenHue | -22 |
GreenSaturation | +33 |
HasCrop | False |
HasSettings | True |
Highlights2012 | -60 |
HueAdjustmentAqua | 0 |
HueAdjustmentBlue | 0 |
HueAdjustmentGreen | 0 |
HueAdjustmentMagenta | 0 |
HueAdjustmentOrange | 0 |
HueAdjustmentPurple | 0 |
HueAdjustmentRed | +76 |
HueAdjustmentYellow | 0 |
HyperfocalDistance | 68.47 m |
ICCProfileName | sRGB IEC61966-2.1 |
ImageHeight (1) | 3648 |
ImageHeight | 2913 |
ImageNumber | 0 |
ImageSize | 4370x2913 |
ImageWidth (1) | 5472 |
ImageWidth | 4370 |
IncrementalTemperature | -20 |
IncrementalTint | -35 |
ISO | 400 |
Lens | EF50mm f/1.2L USM |
LensID (1) | 241 |
LensID | Canon EF 50mm f/1.2L USM |
LensInfo | 50mm f/? |
LensManualDistortionAmount | 0 |
LensModel | EF50mm f/1.2L USM |
LensProfileEnable | 0 |
LensProfileSetup | LensDefaults |
LensSerialNumber | 00004011c4 |
LightValue | 5.2 |
LuminanceAdjustmentAqua | +20 |
LuminanceAdjustmentBlue | +20 |
LuminanceAdjustmentGreen | +20 |
LuminanceAdjustmentMagenta | +20 |
LuminanceAdjustmentOrange | +20 |
LuminanceAdjustmentPurple | +20 |
LuminanceAdjustmentRed | +39 |
LuminanceAdjustmentYellow | +20 |
LuminanceNoiseReductionContrast | 34 |
LuminanceNoiseReductionDetail | 65 |
LuminanceSmoothing | 16 |
Make | Canon |
MaxApertureValue | 1.2 |
Megapixels | 12.7 |
MeteringMode | Partial |
Model | Canon EOS 6D |
ModifyDate (1) | 2013:09:21 01:17:11+02:00 |
ModifyDate | 2013:09:21 01:17:11 |
Orientation | Horizontal (normal) |
ParametricDarks | -32 |
ParametricHighlights | -51 |
ParametricHighlightSplit | 90 |
ParametricLights | +15 |
ParametricMidtoneSplit | 21 |
ParametricShadows | +57 |
ParametricShadowSplit | 10 |
PerspectiveAspect | 0 |
PerspectiveHorizontal | 0 |
PerspectiveRotate | 0.0 |
PerspectiveScale | 100 |
PerspectiveUpright | 0 |
PerspectiveVertical | 0 |
PhotometricInterpretation | RGB |
PostCropVignetteAmount | 0 |
ProcessVersion | 6.7 |
ProfileDescription | sRGB IEC61966-2.1 |
RecommendedExposureIndex | 400 |
RedHue | -5 |
RedSaturation | -21 |
Saturation | -30 |
SaturationAdjustmentAqua | -60 |
SaturationAdjustmentBlue | -40 |
SaturationAdjustmentGreen | -70 |
SaturationAdjustmentMagenta | -20 |
SaturationAdjustmentOrange | -55 |
SaturationAdjustmentPurple | -55 |
SaturationAdjustmentRed | -96 |
SaturationAdjustmentYellow | -50 |
ScaleFactor35efl | 1.0 |
SceneCaptureType | Standard |
SensitivityType | Recommended Exposure Index |
SerialNumber | 063025002741 |
Shadows2012 | +20 |
ShadowTint | 0 |
SharpenDetail | 33 |
SharpenEdgeMasking | 17 |
SharpenRadius | +1.4 |
Sharpness | 57 |
ShutterSpeed | 1/100 |
ShutterSpeedValue | 1/100 |
Software | Adobe Photoshop CS6 (Macintosh) |
SplitToningBalance | +12 |
SplitToningHighlightHue | 0 |
SplitToningHighlightSaturation | 0 |
SplitToningShadowHue | 0 |
SplitToningShadowSaturation | 0 |
ToneCurveName2012 | Linear |
ToneCurvePV2012 | 0, 0, 255, 255 |
ToneCurvePV2012Blue | 0, 0, 255, 255 |
ToneCurvePV2012Green | 0, 0, 255, 255 |
ToneCurvePV2012Red | 0, 0, 255, 255 |
URL_List | |
Version | 8.1 |
Vibrance | +50 |
VignetteAmount | 0 |
WhiteBalance (1) | Custom |
WhiteBalance | Auto |
Whites2012 | +30 |