Felt | Verdi |
AlreadyApplied | True |
Aperture | 7.1 |
ApertureValue | 7.1 |
Artist | Kristin Eidem Pedersen |
AutoLateralCA | 0 |
BitsPerSample | 8 |
Blacks2012 | 0 |
BlueHue | 0 |
BlueSaturation | 0 |
By-line | Kristin Eidem Pedersen |
CameraProfile | Adobe Standard |
CircleOfConfusion | 0.019 mm |
Clarity2012 | +30 |
ColorComponents | 1 |
ColorNoiseReduction | 25 |
ColorNoiseReductionDetail | 50 |
ColorTemperature | 5000 |
Contrast2012 | 0 |
ConvertToGrayscale | True |
Copyright | Kristin Eidem Pedersen |
CopyrightNotice | Kristin Eidem Pedersen |
CreateDate | 2012:07:30 20:50:05 |
Creator | Kristin Eidem Pedersen |
CreatorTool | Adobe Photoshop Lightroom 4.4 (Windows) |
CropAngle | 1.40903 |
CropBottom | 0.958493 |
CropConstrainToWarp | 0 |
CropHeight | 2159 |
CropLeft | 0.046077 |
CropRight | 0.954592 |
CropTop | 0.000752 |
CropUnit | pixels |
CropWidth | 3238 |
CustomRendered | Normal |
DateCreated (1) | 2012:07:30 |
DateCreated | 2012:07:30 20:50:05 |
DateTimeOriginal | 2012:07:30 20:50:05 |
DerivedFrom | |
Exposure2012 | +0.48 |
ExposureCompensation | 0 |
ExposureMode | Auto |
ExposureProgram | Program AE |
ExposureTime | 1/200 |
Firmware | 2.0.2 |
Flash | Off, Did not fire |
FlashCompensation | 0 |
FNumber | 7.1 |
FocalLength | 17.0 mm |
FocalLength35efl | 17.0 mm (35 mm equivalent: 27.2 mm) |
Format | image/jpeg |
FOV | 66.9 deg |
GrainAmount | 0 |
GrayMixerAqua | -51 |
GrayMixerBlue | -64 |
GrayMixerGreen | -24 |
GrayMixerMagenta | +4 |
GrayMixerOrange | -15 |
GrayMixerPurple | +13 |
GrayMixerRed | -6 |
GrayMixerYellow | -18 |
GreenHue | 0 |
GreenSaturation | 0 |
HasCrop | True |
HasSettings | True |
Highlights2012 | -55 |
HyperfocalDistance | 2.17 m |
ImageHeight | 2159 |
ImageNumber | 83 |
ImageSize | 3238x2159 |
ImageWidth | 3238 |
ISO | 100 |
Keywords | T65 |
Lens | 17.0-50.0 mm |
LensInfo | 17-50mm f/? |
LensManualDistortionAmount | 0 |
LensModel | 17.0-50.0 mm |
LensProfileEnable | 0 |
LensProfileSetup | LensDefaults |
LightValue | 13.3 |
LuminanceSmoothing | 0 |
Make | Canon |
MaxApertureValue | 2.8 |
Megapixels | 7.0 |
MeteringMode | Multi-segment |
Model | Canon EOS 20D |
ModifyDate (1) | 2013:10:08 20:49:16+02:00 |
ModifyDate | 2013:10:08 20:49:16 |
OwnerName | unknown |
ParametricDarks | 0 |
ParametricHighlights | 0 |
ParametricHighlightSplit | 75 |
ParametricLights | 0 |
ParametricMidtoneSplit | 50 |
ParametricShadows | 0 |
ParametricShadowSplit | 25 |
PerspectiveHorizontal | 0 |
PerspectiveRotate | 0.0 |
PerspectiveScale | 100 |
PerspectiveVertical | 0 |
PostCropVignetteAmount | -57 |
PostCropVignetteFeather | 50 |
PostCropVignetteHighlightContrast | 0 |
PostCropVignetteMidpoint | 50 |
PostCropVignetteRoundness | 0 |
PostCropVignetteStyle | 1 |
ProcessVersion | 6.7 |
ProfileDescription | sRGB IEC61966-2.1 |
RedHue | 0 |
RedSaturation | 0 |
Rights | Kristin Eidem Pedersen |
ScaleFactor35efl | 1.6 |
SceneCaptureType | Standard |
SerialNumber | 1630908262 |
Shadows2012 | -67 |
ShadowTint | 0 |
SharpenDetail | 25 |
SharpenEdgeMasking | 0 |
SharpenRadius | +1.0 |
Sharpness | 25 |
ShutterSpeed | 1/200 |
ShutterSpeedValue | 1/200 |
Software | Adobe Photoshop Lightroom 4.4 (Windows) |
SplitToningBalance | 0 |
SplitToningHighlightHue | 0 |
SplitToningHighlightSaturation | 0 |
SplitToningShadowHue | 0 |
SplitToningShadowSaturation | 0 |
Subject | T65 |
Tint | 0 |
ToneCurveName2012 | Strong Contrast |
ToneCurvePV2012 | 0, 0, 32, 16, 64, 50, 128, 128, 192, 202, 255, 255 |
ToneCurvePV2012Blue | 0, 0, 255, 255 |
ToneCurvePV2012Green | 0, 0, 255, 255 |
ToneCurvePV2012Red | 0, 0, 255, 255 |
Version | 7.4 |
VignetteAmount | 0 |
WhiteBalance (1) | As Shot |
WhiteBalance | Manual |
Whites2012 | 0 |