Felt | Verdi |
AlreadyApplied | True |
Aperture | 2.8 |
ApertureValue | 2.8 |
ApproximateFocusDistance | 4294967295 |
AutoLateralCA | 1 |
BitsPerSample | 8 |
Blacks2012 | 0 |
BlueHue | 0 |
BlueSaturation | 0 |
CameraProfile | Adobe Standard |
CircleOfConfusion | 0.031 mm |
Clarity2012 | +33 |
ColorComponents | 3 |
ColorNoiseReduction | 25 |
ColorNoiseReductionDetail | 50 |
ColorTemperature | 6350 |
Contrast2012 | 0 |
ConvertToGrayscale | False |
CreateDate (1) | 2013:11:17 17:28:43.58 |
CreateDate | 2013:11:17 17:28:43 |
CreatorTool | Adobe Photoshop Lightroom 4.4 (Windows) |
CropAngle | 0 |
CropBottom | 0.810976 |
CropConstrainToWarp | 1 |
CropHeight | 2043 |
CropLeft | 0.356707 |
CropRight | 0.599254 |
CropTop | 0.265244 |
CropUnit | pixels |
CropWidth | 1362 |
CustomRendered | Normal |
DateCreated (1) | 2013:11:17 |
DateCreated | 2013:11:17 17:28:43.58 |
DateTimeOriginal | 2013:11:17 17:28:43 |
DefringeGreenAmount | 0 |
DefringeGreenHueHi | 60 |
DefringeGreenHueLo | 40 |
DefringePurpleAmount | 0 |
DefringePurpleHueHi | 100 |
DefringePurpleHueLo | 73 |
DOF | inf (464.02 m - inf) |
Exposure2012 | 0.00 |
ExposureCompensation | -2 |
ExposureMode | Auto bracket |
ExposureProgram | Aperture-priority AE |
ExposureTime | 1/160 |
Firmware | 2.1.2 |
Flash | Off, Did not fire |
FlashCompensation | 0 |
FNumber | 2.8 |
FocalLength | 200.0 mm |
FocalLength35efl | 200.0 mm (35 mm equivalent: 195.2 mm) |
Format | image/jpeg |
FOV | 10.5 deg |
GradientBasedCorrActive | true |
GradientBasedCorrAmount | 1.000000 |
GradientBasedCorrBrightness | 0.000000 |
GradientBasedCorrClarity2012 | 0.000000 |
GradientBasedCorrContrast2012 | 0.000000 |
GradientBasedCorrDefringe | 0.000000 |
GradientBasedCorrExposure2012 | -0.402250 |
GradientBasedCorrHighlights2012 | 0.000000 |
GradientBasedCorrHue | 164.000000 |
GradientBasedCorrLuminanceNoise | 0.000000 |
GradientBasedCorrMaskFullX | 0.474099 |
GradientBasedCorrMaskFullY | 0.804818 |
GradientBasedCorrMaskValue | 1.000000 |
GradientBasedCorrMaskWhat | Mask/Gradient |
GradientBasedCorrMaskZeroX | 0.477016 |
GradientBasedCorrMaskZeroY | 0.684265 |
GradientBasedCorrMoire | 0.000000 |
GradientBasedCorrSaturation | 0.000000 |
GradientBasedCorrShadows2012 | 0.000000 |
GradientBasedCorrSharpness | 0.000000 |
GradientBasedCorrTemperature | 0.000000 |
GradientBasedCorrTint | 0.000000 |
GradientBasedCorrWhat | Correction |
GrainAmount | 0 |
GreenHue | 0 |
GreenSaturation | 0 |
HasCrop | True |
HasSettings | True |
Highlights2012 | -26 |
HueAdjustmentAqua | 0 |
HueAdjustmentBlue | 0 |
HueAdjustmentGreen | 0 |
HueAdjustmentMagenta | 0 |
HueAdjustmentOrange | 0 |
HueAdjustmentPurple | 0 |
HueAdjustmentRed | 0 |
HueAdjustmentYellow | 0 |
HyperfocalDistance | 464.02 m |
ImageHeight | 2043 |
ImageNumber | 0 |
ImageSize | 1362x2043 |
ImageWidth | 1362 |
ISO | 320 |
Lens | EF70-200mm f/2.8L IS II USM |
LensID (1) | 251 |
LensID | Canon EF 70-200mm f/2.8L IS II USM |
LensInfo | 70-200mm f/? |
LensManualDistortionAmount | 0 |
LensModel | EF70-200mm f/2.8L IS II USM |
LensProfileChromaticAberrationScale | 100 |
LensProfileDistortionScale | 100 |
LensProfileEnable | 1 |
LensProfileFilename | Canon EOS 5D Mark II (Canon EF 70-200mm f2.8L IS II USM) - RAW.lcp |
LensProfileName | Adobe (Canon EF 70-200mm f/2.8 L IS II USM) |
LensProfileSetup | Custom |
LensProfileVignettingScale | 100 |
LightValue | 8.6 |
LuminanceAdjustmentAqua | 0 |
LuminanceAdjustmentBlue | 0 |
LuminanceAdjustmentGreen | 0 |
LuminanceAdjustmentMagenta | 0 |
LuminanceAdjustmentOrange | 0 |
LuminanceAdjustmentPurple | 0 |
LuminanceAdjustmentRed | 0 |
LuminanceAdjustmentYellow | 0 |
LuminanceNoiseReductionContrast | 0 |
LuminanceNoiseReductionDetail | 50 |
LuminanceSmoothing | 19 |
Make | Canon |
MaxApertureValue | 2.8 |
Megapixels | 2.8 |
MeteringMode | Multi-segment |
Model | Canon EOS 5D Mark II |
ModifyDate (1) | 2013:11:17 18:26:07+01:00 |
ModifyDate | 2013:11:17 18:26:07 |
PaintCorrectionActive | true |
PaintCorrectionAmount | 1.000000 |
PaintCorrectionBrightness | 0.000000 |
PaintCorrectionClarity2012 (2) | 0.000000 |
PaintCorrectionClarity2012 | 0.908050 |
PaintCorrectionContrast2012 (3) | 0.000000 |
PaintCorrectionContrast2012 | 0.908050 |
PaintCorrectionDefringe | 0.000000 |
PaintCorrectionExposure2012 (1) | 0.724250 |
PaintCorrectionExposure2012 (2) | 0.908000 |
PaintCorrectionExposure2012 (3) | 0.517250 |
PaintCorrectionExposure2012 | -0.425250 |
PaintCorrectionHighlights2012 | 0.000000 |
PaintCorrectionHue (2) | 32.000000 |
PaintCorrectionHue | 164.000000 |
PaintCorrectionLuminanceNoise | 0.000000 |
PaintCorrectionMaskCenterWeight | 0.119121 |
PaintCorrectionMaskFlow | 0.778000 |
PaintCorrectionMaskRadius (10) | 0.013481 |
PaintCorrectionMaskRadius (11) | 0.013485 |
PaintCorrectionMaskRadius (12) | 0.013482 |
PaintCorrectionMaskRadius (13) | 0.077979 |
PaintCorrectionMaskRadius (14) | 0.077983 |
PaintCorrectionMaskRadius (15) | 0.078056 |
PaintCorrectionMaskRadius (16) | 0.077982 |
PaintCorrectionMaskRadius (17) | 0.077992 |
PaintCorrectionMaskRadius (18) | 0.078109 |
PaintCorrectionMaskRadius (19) | 0.078095 |
PaintCorrectionMaskRadius (2) | 0.041976 |
PaintCorrectionMaskRadius (3) | 0.041981 |
PaintCorrectionMaskRadius (4) | 0.041986 |
PaintCorrectionMaskRadius (5) | 0.041998 |
PaintCorrectionMaskRadius (6) | 0.042013 |
PaintCorrectionMaskRadius (7) | 0.042038 |
PaintCorrectionMaskRadius (8) | 0.013483 |
PaintCorrectionMaskRadius | 0.036923 |
PaintCorrectionMaskValue | 1.000000 |
PaintCorrectionMaskWhat | Mask/Paint |
PaintCorrectionMoire | 0.000000 |
PaintCorrectionSaturation (4) | 0.930000 |
PaintCorrectionSaturation (7) | -0.333330 |
PaintCorrectionSaturation | 0.000000 |
PaintCorrectionShadows2012 | 0.000000 |
PaintCorrectionSharpness | 0.000000 |
PaintCorrectionTemperature (2) | 0.839080 |
PaintCorrectionTemperature | 0.000000 |
PaintCorrectionTint | 0.000000 |
PaintCorrectionWhat | Correction |
ParametricDarks | 0 |
ParametricHighlights | -3 |
ParametricHighlightSplit | 75 |
ParametricLights | +44 |
ParametricMidtoneSplit | 50 |
ParametricShadows | 0 |
ParametricShadowSplit | 25 |
PerspectiveHorizontal | 0 |
PerspectiveRotate | -0.5 |
PerspectiveScale | 100 |
PerspectiveVertical | 0 |
PostCropVignetteAmount | 0 |
ProcessVersion | 6.7 |
ProfileDescription | sRGB IEC61966-2.1 |
RedHue | 0 |
RedSaturation | 0 |
Saturation | 0 |
SaturationAdjustmentAqua | 0 |
SaturationAdjustmentBlue | +53 |
SaturationAdjustmentGreen | 0 |
SaturationAdjustmentMagenta | 0 |
SaturationAdjustmentOrange | -40 |
SaturationAdjustmentPurple | 0 |
SaturationAdjustmentRed | 0 |
SaturationAdjustmentYellow | +4 |
ScaleFactor35efl | 1.0 |
SceneCaptureType | Standard |
SerialNumber | 1431023839 |
Shadows2012 | +64 |
ShadowTint | 0 |
SharpenDetail | 0 |
SharpenEdgeMasking | 27 |
SharpenRadius | +1.0 |
Sharpness | 104 |
ShutterSpeed | 1/160 |
ShutterSpeedValue | 1/160 |
Software | Adobe Photoshop Lightroom 4.4 (Windows) |
SplitToningBalance | 0 |
SplitToningHighlightHue | 0 |
SplitToningHighlightSaturation | 0 |
SplitToningShadowHue | 0 |
SplitToningShadowSaturation | 0 |
Tint | -7 |
ToneCurveName2012 | Linear |
ToneCurvePV2012 | 0, 0, 255, 255 |
ToneCurvePV2012Blue | 0, 0, 255, 255 |
ToneCurvePV2012Green | 0, 0, 255, 255 |
ToneCurvePV2012Red | 0, 0, 255, 255 |
Version | 7.4 |
Vibrance | +52 |
VignetteAmount | 0 |
WhiteBalance (1) | As Shot |
WhiteBalance | Auto |
Whites2012 | -57 |