Felt | Verdi |
AlreadyApplied | True |
Aperture | 2.5 |
ApertureValue | 2.5 |
ApproximateFocusDistance | 1.2 |
Artist | Eric Fagerheim |
AuthorsPosition | photographer |
AutoLateralCA | 0 |
AutoWhiteVersion | 134348800 |
BitsPerSample | 8 |
BlueHue | 0 |
BlueSaturation | 0 |
Brightness | +29 |
By-line | Eric Fagerheim |
By-lineTitle | photographer |
CameraProfile | Embedded |
CircleOfConfusion | 0.006 mm |
Clarity | 0 |
ColorComponents | 3 |
ColorNoiseReduction | 0 |
Contrast | 0 |
ConvertToGrayscale | False |
Copyright | www.fotofashion.no |
CopyrightFlag | True |
CopyrightNotice | www.fotofashion.no |
CreateDate | 2014:02:01 10:39:51 |
Creator | Eric Fagerheim |
CreatorAddress | Pir II 3 |
CreatorCity | Trondheim |
CreatorCountry | Norway |
CreatorPostalCode | 7010 |
CreatorTool | Adobe Photoshop Lightroom 5.3 (Windows) |
CreatorWorkEmail | mail@fotofashion.no |
CreatorWorkURL | www.fotofashion.no |
CropAngle | -2.56867 |
CropBottom | 0.93695 |
CropConstrainToWarp | 0 |
CropLeft | 0 |
CropRight | 0.964972 |
CropTop | 0.06305 |
CustomRendered | Normal |
DateCreated (1) | 2013:06:02 |
DateCreated | 2013:06:02 17:56:45 |
DateTimeOriginal | 2014:02:01 10:39:51 |
DefringeGreenAmount | 0 |
DefringeGreenHueHi | 60 |
DefringeGreenHueLo | 40 |
DefringePurpleAmount | 0 |
DefringePurpleHueHi | 70 |
DefringePurpleHueLo | 30 |
DOF | 0.017 m (1.191 - 1.209 m) |
Exposure | -0.57 |
ExposureCompensation | 0 |
ExposureMode | Manual |
ExposureProgram | Manual |
ExposureTime | 1/100 |
FillLight | 6 |
Firmware | 1.1.3 |
Flash | Off, Did not fire |
FlashCompensation | 0 |
FNumber | 2.5 |
FocalLength | 50.0 mm |
FocalLength35efl | 50.0 mm (35 mm equivalent: 240.0 mm) |
Format | image/jpeg |
FOV | 8.6 deg |
GradientBasedCorrActive | true |
GradientBasedCorrAmount | 1.000000 |
GradientBasedCorrBrightness | 0.000000 |
GradientBasedCorrClarity | 0.000000 |
GradientBasedCorrContrast | 0.000000 |
GradientBasedCorrExposure (1) | -0.415000 |
GradientBasedCorrExposure (2) | -0.220000 |
GradientBasedCorrExposure | -0.268000 |
GradientBasedCorrHue | 0.000000 |
GradientBasedCorrMaskFullX (1) | 0.814742 |
GradientBasedCorrMaskFullX (2) | 0.261930 |
GradientBasedCorrMaskFullX | 0.035854 |
GradientBasedCorrMaskFullY (1) | 0.642817 |
GradientBasedCorrMaskFullY (2) | 0.139882 |
GradientBasedCorrMaskFullY | 0.464294 |
GradientBasedCorrMaskValue | 1.000000 |
GradientBasedCorrMaskWhat | Mask/Gradient |
GradientBasedCorrMaskZeroX (1) | 0.504970 |
GradientBasedCorrMaskZeroX (2) | 0.386373 |
GradientBasedCorrMaskZeroX | 0.292504 |
GradientBasedCorrMaskZeroY (1) | 0.291992 |
GradientBasedCorrMaskZeroY (2) | 0.261646 |
GradientBasedCorrMaskZeroY | 0.400764 |
GradientBasedCorrSaturation | 0.000000 |
GradientBasedCorrSharpness | 0.000000 |
GradientBasedCorrWhat | Correction |
GrainAmount | 20 |
GrainFrequency | 50 |
GrainSize | 25 |
GreenHue | 0 |
GreenSaturation | 0 |
HasCrop | True |
HasSettings | True |
Headline | Din fotograf i Trondheim - Fotofashion.no |
HighlightRecovery | 0 |
HueAdjustmentAqua | 0 |
HueAdjustmentBlue | 0 |
HueAdjustmentGreen | 0 |
HueAdjustmentMagenta | 0 |
HueAdjustmentOrange | 0 |
HueAdjustmentPurple | 0 |
HueAdjustmentRed | 0 |
HueAdjustmentYellow | 0 |
HyperfocalDistance | 159.75 m |
ImageHeight | 800 |
ImageNumber | 0 |
ImageSize | 1200x800 |
ImageWidth | 1200 |
IncrementalTemperature | -14 |
IncrementalTint | -38 |
ISO | 100 |
Keywords | din fotograf, fashion, fotofashion, fotograf trondheim, shoot, studio |
Label | Fotofashion |
Lens | EF50mm f/1.2L USM |
LensID (1) | 241 |
LensID | Canon EF 50mm f/1.2L USM |
LensInfo | 50mm f/? |
LensManualDistortionAmount | 0 |
LensModel | EF50mm f/1.2L USM |
LensProfileEnable | 0 |
LensProfileSetup | LensDefaults |
LensSerialNumber | 0000413976 |
LightValue | 9.3 |
LuminanceAdjustmentAqua | 0 |
LuminanceAdjustmentBlue | 0 |
LuminanceAdjustmentGreen | 0 |
LuminanceAdjustmentMagenta | 0 |
LuminanceAdjustmentOrange | 0 |
LuminanceAdjustmentPurple | 0 |
LuminanceAdjustmentRed | -100 |
LuminanceAdjustmentYellow | 0 |
LuminanceSmoothing | 0 |
Make | Canon |
Marked | True |
MaxApertureValue | 1.2 |
Megapixels | 0.960 |
MeteringMode | Multi-segment |
Model | Canon EOS 5D Mark III |
ModifyDate (1) | 2014:02:15 14:59:12+01:00 |
ModifyDate | 2014:02:15 14:59:12 |
ObjectName | www.fotofashion.no |
ParametricDarks | -9 |
ParametricHighlights | 0 |
ParametricHighlightSplit | 75 |
ParametricLights | +20 |
ParametricMidtoneSplit | 50 |
ParametricShadows | -9 |
ParametricShadowSplit | 25 |
PerspectiveAspect | 0 |
PerspectiveHorizontal | 0 |
PerspectiveRotate | 0.0 |
PerspectiveScale | 100 |
PerspectiveUpright | 0 |
PerspectiveVertical | 0 |
PostCropVignetteAmount | 0 |
ProcessVersion | 5.7 |
ProfileDescription | sRGB IEC61966-2.1 |
Rating | 1 |
RecommendedExposureIndex | 100 |
RedHue | 0 |
RedSaturation | 0 |
Rights | www.fotofashion.no |
Saturation | -31 |
SaturationAdjustmentAqua | 0 |
SaturationAdjustmentBlue | 0 |
SaturationAdjustmentGreen | 0 |
SaturationAdjustmentMagenta | 0 |
SaturationAdjustmentOrange | -5 |
SaturationAdjustmentPurple | 0 |
SaturationAdjustmentRed | +100 |
SaturationAdjustmentYellow | 0 |
ScaleFactor35efl | 4.8 |
SceneCaptureType | Standard |
SensitivityType | Recommended Exposure Index |
SerialNumber | 023021000616 |
Shadows | 0 |
ShadowTint | 0 |
SharpenDetail | 25 |
SharpenEdgeMasking | 0 |
SharpenRadius | +1.0 |
Sharpness | 0 |
ShutterSpeed | 1/100 |
ShutterSpeedValue | 1/100 |
Software | Adobe Photoshop Lightroom 5.3 (Windows) |
SplitToningBalance | 0 |
SplitToningHighlightHue | 28 |
SplitToningHighlightSaturation | 13 |
SplitToningShadowHue | 53 |
SplitToningShadowSaturation | 8 |
Subject | din fotograf, fashion, fotofashion, fotograf trondheim, shoot, studio |
Title | www.fotofashion.no |
ToneCurve | 0, 0, 255, 255 |
ToneCurveBlue | 0, 0, 255, 255 |
ToneCurveGreen | 0, 0, 255, 255 |
ToneCurveName | Linear |
ToneCurveRed | 0, 0, 255, 255 |
URL | www.fotofashion.no |
Version | 8.3 |
Vibrance | -26 |
VignetteAmount | -33 |
VignetteMidpoint | 50 |
WebStatement | www.fotofashion.no |
WhiteBalance (1) | Custom |
WhiteBalance | Auto |